BEGIN:VCALENDAR
PRODID:NingEventWidget-v1
VERSION:2.0
METHOD:PUBLISH
BEGIN:VEVENT
UID:3186561:Event:3485
DTSTAMP:20210313T171846Z
SUMMARY:Get out the Vote rally
DESCRIPTION:Vote Now!, get your signs and meet up at the Corner of Ara
 pahoe Road and Parker. Parking should be available at the shopping cen
 ter.\n\nFor more information visit http://arapahoeteaparty.ning.com/ev
 ents/get-out-the-vote-rally
DTSTART:20091101T200000Z
DTEND:20091101T210000Z
CATEGORIES:rally
LOCATION:Arapahoe and Parker
WEBSITE:
URL:
CONTACT:
ORGANIZER;CN="Chairman's Committee":http://arapahoeteaparty.ning.com/p
 rofile/chairmanscommittee
ATTACH;FMTTYPE="image/jpeg":
ATTENDEE;ROLE=REQ-PARTICIPANT;PARTSTAT=ACCEPTED;RSVP=TRUE;CN="Theresa 
 Collins":http://arapahoeteaparty.ning.com/profile/TheresaCollins
ATTENDEE;ROLE=REQ-PARTICIPANT;PARTSTAT=ACCEPTED;RSVP=TRUE;CN="Chairman
 's Committee":http://arapahoeteaparty.ning.com/profile/chairmanscommit
 tee
END:VEVENT
END:VCALENDAR
