BEGIN:VCALENDAR
PRODID:NingEventWidget-v1
VERSION:2.0
METHOD:PUBLISH
BEGIN:VEVENT
UID:3186561:Event:50263
DTSTAMP:20210313T172427Z
SUMMARY:“Freedom 560” with Ken Clark radio program on KLZ 560 AM
DESCRIPTION:Ken Clark is making a change from \"Grassroots Radio Color
 ado\" to \"Freedom 560\" radio show that airs noon to 2:00 p.m. weekda
 ys on KLZ 560 radio in the Denver area and beyond.\n\nIt looks like gr
 aduates of Leadership Program of the Rockies are hosting time slots th
 roughout the day on KLZ 560 radio.\n\n\"Grasssroots Radio\" will conti
 nue with Kris Cook hosting.  So there may be some subtle changes ther
 e.\n\n \nOn KLZ 560 AM  “The Source”\nhttp://www.560thesource.c
 om/\n  Show Debuted June 2, 2014 \n \nShow can be heard along the fron
 t range of Colorado.   Out of range??  Just listen to us on TuneIn R
 adio anywhere in the world!!\n\n\n\n\n************************\n\nUse 
 the \"Listen\" button on the KLZ 560 web site listed above for compute
 r connection to the show.\n\n**************************\n\n\nhttp://ww
 w.libertycast.net/\n\nWhen you miss a show or want to listen again for
  either \"Freedom 560\" or Grassrootsradio Colorado check the follow
 ing for the podcasts:\n\nhttps://soundcloud.com/libertycast\n\n\n\nFor
  more information visit http://arapahoeteaparty.ning.com/events/freedo
 m-560-with-ken-clark-radio-program-on-klz-560-am-1
DTSTART:20140604T060000Z
DTEND:20140604T200000Z
CATEGORIES:"radio show"
LOCATION:\"KLZ 560 AM the source radio\"
WEBSITE:http://www.560thesource.com/
URL:http://www.560thesource.com/
CONTACT:
ORGANIZER:posted by W. Branstetter
ATTACH;FMTTYPE="image/jpeg":
ATTENDEE;ROLE=REQ-PARTICIPANT;PARTSTAT=ACCEPTED;RSVP=TRUE;CN="W. Brans
 tetter":http://arapahoeteaparty.ning.com/profile/WBranstetter
END:VEVENT
END:VCALENDAR
