BEGIN:VCALENDAR
PRODID:NingEventWidget-v1
VERSION:2.0
METHOD:PUBLISH
BEGIN:VEVENT
UID:3186561:Event:53485
DTSTAMP:20210313T173742Z
SUMMARY:“Freedom 560” radio program on KLZ 560 AM with Ken Clark
DESCRIPTION:Tune in for the \"Freedom 560\" with Ken Clark who will tr
 y to keep you up to date with the opening day and the plans at the Col
 orado legislature.  The new time for \"Freedom 560\" is 1:00 to 3:00 
 p.m. weekdays.\n\nOn KLZ 560 AM  “The Source”\nhttp://www.560the
 source.com/\n \n\nFor more on all things Colorado legislature:\n\nhtt
 p://www.leg.state.co.us/\n\n\n\nFor more information visit http://arap
 ahoeteaparty.ning.com/events/freedom-560-radio-program-on-klz-560-am-w
 ith-ken-clark
DTSTART:20150107T200000Z
DTEND:20150107T220000Z
CATEGORIES:"radio show"
LOCATION:\"KLZ 560 AM the source radio\"
WEBSITE:http://www.560thesource.com/
URL:http://www.560thesource.com/
CONTACT:
ORGANIZER:posted by W. Branstetter
ATTACH;FMTTYPE="image/jpeg":
ATTENDEE;ROLE=REQ-PARTICIPANT;PARTSTAT=ACCEPTED;RSVP=TRUE;CN="W. Brans
 tetter":http://arapahoeteaparty.ning.com/profile/WBranstetter
END:VEVENT
END:VCALENDAR
