BEGIN:VCALENDAR
PRODID:NingEventWidget-v1
VERSION:2.0
METHOD:PUBLISH
BEGIN:VEVENT
UID:3186561:Event:32572
DTSTAMP:20210313T172059Z
SUMMARY:Free Markets Free People Rally in Downtown Denver
DESCRIPTION:CANCELLED DUE TO EXTREME WEATHER.  WILL BE RESCHEDULED AN
 D YOU WILL BE MADE AWARE.  PLEASE TELL EVERYONE YOU KNOW!\n\nFor more
  information visit http://arapahoeteaparty.ning.com/events/free-market
 s-free-people-rally-in-downtown-denver-1
DTSTART:20111203T181500Z
DTEND:20111203T210000Z
CATEGORIES:rally
LOCATION:CANCELLED
WEBSITE:
URL:
CONTACT:
ORGANIZER;CN="Randy B Corporon":http://arapahoeteaparty.ning.com/profi
 le/RandyBCorporon
ATTACH;FMTTYPE="image/jpeg":
ATTENDEE;ROLE=REQ-PARTICIPANT;PARTSTAT=ACCEPTED;RSVP=TRUE;CN="Randy B 
 Corporon":http://arapahoeteaparty.ning.com/profile/RandyBCorporon
END:VEVENT
END:VCALENDAR
