BEGIN:VCALENDAR
PRODID:NingEventWidget-v1
VERSION:2.0
METHOD:PUBLISH
BEGIN:VEVENT
UID:3186561:Event:47778
DTSTAMP:20210313T174503Z
SUMMARY:\"First Friday\" with Senator Nancy Todd at Panera's (early)
DESCRIPTION:\n\nUpcoming Town Halls with Senator Nancy Todd (SD-28)\nÂ
  \n\"First Friday\"October 4th 7:00-8:00 AM at Panera Bread12293 East 
 Iliff Avenue Aurora, CO 80014\nnear Iliff and Peoria\n\nNOTE:\nThe e-m
 ail contained the following in the message:\n\nUpcoming Town HallsOcto
 ber 4th 7:00-8:00 AM at Panera Bread (12293 East Iliff Avenue Aurora, 
 CO 80014)October 5th 11:00 AM-12:00 PM at Smokey Hill Library (5430 Bi
 scay Circle Aurora, CO 80015)October 16th 6:30-8:00 PM at Heather Gard
 ens (2888 S. Heather Gardens Way Aurora, CO 80014)\n\n~~~~~~~~~~~~~~~~
 ~~~~\nEvents with Senator Todd! I also want to invite you to my First 
 Friday on Â October 4 at 7 AM at Panera's (Iliff & Peoria). This will 
 be a good time for us to discuss ballot initiatives (AmendmentÂ  66 fo
 r public education investment) and the Affordable Health Care Act. Â I
  willÂ also be at Smokey Hill Library (5430 Biscay Circle) on Saturday
 , October 5 from 11:00 - 12:00. Â These are good times to come, ask qu
 estions and give input to me. Â I am always interested in what is on y
 our mind and these are good times to visit. Â I am also currently work
 ing on updating my website so stay tuned for an updateÂ as we roll out
  a new and improved version by November 1, 2013.\nÂ \n****************
 *\nÂ \nConsider attending one of Senator Todd's events.Â  It is quite 
 the experience.Â  If you dare, consider asking a question that relates
  to the Constitution.Â \nÂ \nThis web site is out of date but:\nhttp:/
 /www.nancytoddforsenate.org/\nÂ \n\nFor more information visit http://
 arapahoeteaparty.ning.com/events/first-friday-with-senator-nancy-todd-
 at-panera-s-early
DTSTART:20131004T130000Z
DTEND:20131004T140000Z
CATEGORIES:townhall
LOCATION:Panera Bread
WEBSITE:
URL:
CONTACT:
ORGANIZER:Senator Nancy Todd [posted by W. Branstetter]
ATTACH;FMTTYPE="image/jpeg":
ATTENDEE;ROLE=REQ-PARTICIPANT;PARTSTAT=TENTATIVE;RSVP=TRUE;CN="W. Bran
 stetter":http://arapahoeteaparty.ning.com/profile/WBranstetter
END:VEVENT
END:VCALENDAR
