BEGIN:VCALENDAR
PRODID:NingEventWidget-v1
VERSION:2.0
METHOD:PUBLISH
BEGIN:VEVENT
UID:3186561:Event:5303
DTSTAMP:20210313T174423Z
SUMMARY:Federal Balanced Budget Amendment
DESCRIPTION:Government spending is out of control and we are stealing 
 from future generations to satisfy our debt addiction today. Our futur
 e is foreshadowed by current riots and destruction in other countries.
  Stop the madness by supporting constitutional restrictions on reckles
 s government spending and debt.\n\nFor more information visit http://a
 rapahoeteaparty.ning.com/events/federal-balanced-budget
DTSTART:20100821T180000Z
DTEND:20100821T200000Z
CATEGORIES:rally
LOCATION:City Park in Denver
WEBSITE:http://www.americansforbudgetreform.com/
URL:http://www.americansforbudgetreform.com/
CONTACT:
ORGANIZER:Americans for Budget Reform
ATTACH;FMTTYPE="image/jpeg":
ATTENDEE;ROLE=REQ-PARTICIPANT;PARTSTAT=ACCEPTED;RSVP=TRUE;CN="W. Brans
 tetter":http://arapahoeteaparty.ning.com/profile/WBranstetter
ATTENDEE;ROLE=REQ-PARTICIPANT;PARTSTAT=ACCEPTED;RSVP=TRUE;CN="Cristen 
 Recker":http://arapahoeteaparty.ning.com/profile/CristenRecker
ATTENDEE;ROLE=REQ-PARTICIPANT;PARTSTAT=ACCEPTED;RSVP=TRUE;CN="Theresa 
 Collins":http://arapahoeteaparty.ning.com/profile/TheresaCollins
ATTENDEE;ROLE=REQ-PARTICIPANT;PARTSTAT=TENTATIVE;RSVP=TRUE;CN="Chairma
 n's Committee":http://arapahoeteaparty.ning.com/profile/chairmanscommi
 ttee
ATTENDEE;ROLE=REQ-PARTICIPANT;PARTSTAT=TENTATIVE;RSVP=TRUE;CN=BeverlyW
 inters:http://arapahoeteaparty.ning.com/profile/BeverlyWinters
END:VEVENT
END:VCALENDAR
