BEGIN:VCALENDAR
PRODID:NingEventWidget-v1
VERSION:2.0
METHOD:PUBLISH
BEGIN:VEVENT
UID:3186561:Event:48968
DTSTAMP:20210313T182037Z
SUMMARY:February Meeting: Arapahoe Tea Party
DESCRIPTION:Join the Arapahoe Tea Party and the Colorado Tea Party Pat
 riots for our February meeting.\n\nJoin the Arapahoe Tea Party & Color
 ado Tea Party Patriots as we welcome and talk with new Arapahoe County
  Sheriff Dave Walcher Walcher. Coloradans for Responsible Energy De
 velopment You may have seen some familiar faces on their recent TV ad
 s asking \"What's Fracking all about?\". Some very harmful legislatio
 n is already making its way through our legislature this year. Can we 
 influence the outcome? \n\n \n\n\n\n\nBring your questions, your per
 spective and your comments. Our meetings have been standing room only,
  so come early!\n \nTuesday, February 11, 2014 6:30-8:30 pm South Met
 ro Fire Rescue 9195 E. Mineral Ave. Centennial, CO 80112\n \nWatch fo
 r other announcements from Randy Corporon regarding speakers or topics
 .\n\nEvent announcement on Facebook:\nhttps://www.facebook.com/events/
 697315966979502\n \nIf you would be interested in helping with a comm
 ittee or two that might help make meetings and events run smoother, wo
 uld you please post a brief comment with this announcement.\n \nIf yo
 u are not connected via Facebook, please find the group \"Arapahoe Tea
  Party\" \nhttps://www.facebook.com/groups/arapahoeteaparty\n \n****
 *********************\n\nNOTE:  Please do not contact the building ma
 nagement for information about this event.  The group sponsoring the 
 event has contact information at the link provided above.\n\n\n\nFor m
 ore information visit http://arapahoeteaparty.ning.com/events/february
 -meeting-arapahoe-tea-party
DTSTART:20140212T013000Z
DTEND:20140212T033000Z
CATEGORIES:"monthly meeting"
LOCATION:South Metro Fire Rescue Authority; Mineral Headquarters, Boar
 d Room
WEBSITE:https://maps.google.com/maps?oe=utf-8&client=firefox-a&ie=UTF-
 8&q=south+metro+fire+rescue+authority+mineral+headquarters&fb=1&gl=us&
 hq=south+metro+fire+rescue+authority+mineral+headquarters&cid=0,0,9189
 900575761474566&ei=wsvZUfvrHoWQyQHR5oGQCg&ved=0CIcBEPwSMAA
URL:https://maps.google.com/maps?oe=utf-8&client=firefox-a&ie=UTF-8&q=
 south+metro+fire+rescue+authority+mineral+headquarters&fb=1&gl=us&hq=s
 outh+metro+fire+rescue+authority+mineral+headquarters&cid=0,0,91899005
 75761474566&ei=wsvZUfvrHoWQyQHR5oGQCg&ved=0CIcBEPwSMAA
CONTACT:303-885-2550
ORGANIZER:Regina Thomson and Randy Corporon [posted by W. Branstetter]
ATTACH;FMTTYPE="image/jpeg":
ATTENDEE;ROLE=REQ-PARTICIPANT;PARTSTAT=ACCEPTED;RSVP=TRUE;CN="Bill Hay
 nes":http://arapahoeteaparty.ning.com/profile/BillHaynes
ATTENDEE;ROLE=REQ-PARTICIPANT;PARTSTAT=ACCEPTED;RSVP=TRUE;CN="W. Brans
 tetter":http://arapahoeteaparty.ning.com/profile/WBranstetter
END:VEVENT
END:VCALENDAR
