BEGIN:VCALENDAR
PRODID:NingEventWidget-v1
VERSION:2.0
METHOD:PUBLISH
BEGIN:VEVENT
UID:3186561:Event:53815
DTSTAMP:20210313T181129Z
SUMMARY:February 2015 Meeting: Arapahoe Tea Party
DESCRIPTION:Join the Arapahoe Tea Party and the Colorado Tea Party Pat
 riots for our February 10, 2015, meeting.\n\nAs soon as Randy Corporon
  or someone tells me what might be on the agenda for the meeting there
  will be a notation added here:\n\n[topics and speakers pending] -- UP
 DATE as of early 02/09/2015:\n\nRandy indicates that the meeting will 
 include reorganization efforts for the meeting. Â So bring energy and 
 ideas.\n\n\nAs with all of the meetings, come early for a good seat. Â
  There may be additions to the program.\n\nOur meetings have been stan
 ding room only, so come early!\nÂ \nTuesday, February 10, 2015 6:30-8:
 30 pm South Metro Fire Rescue 9195 E. Mineral Ave. Centennial, CO 8011
 2\nÂ \nWatch for other announcements from Randy Corporon regarding spe
 akers or topics. Â Listen to KLZ 560 radio, especially Randy's show 5-
 8 a.m. MT weekdays.\n\nEvent announcement on Facebook:\n\nÂ \n\nÂ \nIf
  you would be interested in helping with a committee or two that might
  help make meetings and events run smoother, would you please post a b
 rief comment with this announcement.\nÂ \nIf you are not connected via
  Facebook, please find the group \"Arapahoe Tea Party\"Â for news item
 s and events:\nhttps://www.facebook.com/groups/arapahoeteaparty\nÂ \n*
 ************************\n\nNOTE:Â  Please do not contact the building
  management for information about this event.Â  The group sponsoring t
 he event has contact information at the link provided above.\n\n\n\nFo
 r more information visit http://arapahoeteaparty.ning.com/events/febru
 ary-2015-meeting-arapahoe-tea-party
DTSTART:20150211T013000Z
DTEND:20150211T033000Z
CATEGORIES:"monthly meeting"
LOCATION:South Metro Fire Rescue Authority; Mineral Headquarters, Boar
 d Room
WEBSITE:https://maps.google.com/maps?oe=utf-8&client=firefox-a&ie=UTF-
 8&q=south+metro+fire+rescue+authority+mineral+headquarters&fb=1&gl=us&
 hq=south+metro+fire+rescue+authority+mineral+headquarters&cid=0,0,9189
 900575761474566&ei=wsvZUfvrHoWQyQHR5oGQCg&ved=0CIcBEPwSMAA
URL:https://maps.google.com/maps?oe=utf-8&client=firefox-a&ie=UTF-8&q=
 south+metro+fire+rescue+authority+mineral+headquarters&fb=1&gl=us&hq=s
 outh+metro+fire+rescue+authority+mineral+headquarters&cid=0,0,91899005
 75761474566&ei=wsvZUfvrHoWQyQHR5oGQCg&ved=0CIcBEPwSMAA
CONTACT:303-885-2550
ORGANIZER:Regina Thomson and Randy Corporon [posted by W. Branstetter]
ATTACH;FMTTYPE="image/jpeg":
ATTENDEE;ROLE=REQ-PARTICIPANT;PARTSTAT=ACCEPTED;RSVP=TRUE;CN="W. Brans
 tetter":http://arapahoeteaparty.ning.com/profile/WBranstetter
END:VEVENT
END:VCALENDAR
