BEGIN:VCALENDAR
PRODID:NingEventWidget-v1
VERSION:2.0
METHOD:PUBLISH
BEGIN:VEVENT
UID:3186561:Event:56180
DTSTAMP:20210313T172002Z
SUMMARY:Evergreen Tea Party meeting:  Tancredo on U.S. Immigration and
  Bryngelsson on Sweden Immigration
DESCRIPTION:Evergreen Tea Party monthly meeting\nMonday, February 8, 2
 016 at 6:30 p.m. MT\nThe Barn at Evergreen Memorial Park\n26624 North 
 Turkey Creek Road\nEvergreen, Colorado 80439\n$10 donation requested t
 o cover costs\n\nEvents page with map and event details:\nhttps://www.
 facebook.com/events/1693764534171679/\n\n\"The Politics of U.S. Immigr
 ation\" former Congressman Tom Tancredo\n\n\"How Immigration is Impact
 ing Sweden\" by Hampus Brygelsson, a Swede studying in the US\n\nMeet
  candidates for US Senate: Ryan Frazier and Commissioner Don Rosier. 
 \n\n\n\nMeet State Rep Justin Everett HD 25. \n\nDoors open at 6 pm t
 o get seating and mingle with the speakers and candidates.\n\n\n\"As w
 e have costs involved with hosting these events, we are asking a $10 p
 er person donation. If you would like to attend and can't come up with
  the full donation, please come anyway and we'll see if there is seati
 ng available.\"\n\n\n\n\n\nFor more information visit http://arapahoet
 eaparty.ning.com/events/evergreen-tea-party-meeting-tancredo-on-u-s-im
 migration-and-bryng
DTSTART:20160209T013000Z
DTEND:20160209T033000Z
CATEGORIES:meeting
LOCATION:\"The Barn at Evergreen Memorial Park\"
WEBSITE:https://www.facebook.com/events/1693764534171679/
URL:https://www.facebook.com/events/1693764534171679/
CONTACT:
ORGANIZER:Evergreen Tea Party; posted by W. Branstetter
ATTACH;FMTTYPE="image/jpeg":
END:VEVENT
END:VCALENDAR
