BEGIN:VCALENDAR
PRODID:NingEventWidget-v1
VERSION:2.0
METHOD:PUBLISH
BEGIN:VEVENT
UID:3186561:Event:47969
DTSTAMP:20210313T174337Z
SUMMARY:Englewood City Council Candidate Forum
DESCRIPTION:The Englewood City Council candidates will be featured at 
 this forum sponsored by the League of Women Voters:\n \nWednesday, Oc
 tober 2 -- 6:30 p.m.\nEnglewood City Center\n2nd floor Community Room\
 n1000 Englewood Parkway\nEnglewood, CO 80110\n\nThis event is free and
  open to the public.\n\nThe District 2 Council candidates are:\n□ Li
 nda Olson, the incumbent seeking her second 4-year term\n□ Rita Russ
 ell\nThe District 4 Council candidate is:\n□ Rick Gillit, the incumb
 ent running unopposed for a second 4-year term\nThe At-Large Council c
 andidates running to fill the 4-year position vacated by Jim Woodward 
 are:\n□ Scott Gorsky\n□ Steven R. Yates\nThe Municipal Judge candi
 date is:\n□ Vincent R. Attencio, the incumbent running unopposed for
  a fifth 4-year term as Englewood's Municipal Judge\n \nVoters will a
 lso be asked to vote on two Englewood ballot issues. One is referred b
 y the City of Englewood regarding recreational marijuana; the other is
  a citizen initiated ballot question regarding the designation of park
  property.\nFor information about these issues, watch for a special el
 ection edition of the Englewood Citizen newsletter to be mailed to Eng
 lewood residents the week of October 7, 2013 and available on the city
 's website or call the city of Englewood's information number at 303-7
 62-2300.\n\nhttp://lwvarapahoe.org/Public_Events.html\n\n\n\nFor more 
 information visit http://arapahoeteaparty.ning.com/events/englewood-ci
 ty-council-candidate-forum
DTSTART:20131003T003000Z
DTEND:20131003T023000Z
CATEGORIES:"candidate forum"
LOCATION:Englewood City Center
WEBSITE:http://lwvarapahoe.org/Public_Events.html
URL:http://lwvarapahoe.org/Public_Events.html
CONTACT:
ORGANIZER:LWV [posted by W. Branstetter]
ATTACH;FMTTYPE="image/jpeg":
END:VEVENT
END:VCALENDAR
