BEGIN:VCALENDAR
PRODID:NingEventWidget-v1
VERSION:2.0
METHOD:PUBLISH
BEGIN:VEVENT
UID:3186561:Event:50364
DTSTAMP:20210313T175503Z
SUMMARY:Douglas County Young Republicans hosts Andy Peth's \"One Line,
  One Standard, One Message\"
DESCRIPTION:Andy Peth, founder of the web site The Party of Choice (.c
 om), will present \"One Line, One Standard, One Message\" at the Dougl
 as County Young Republicans.\n\nLearn how to undercut the propaganda. 
  It is a good program.\n\nhttp://www.thepartyofchoice.com/events.html
 \nhttp://www.thepartyofchoice.com/\n\nThursday, June 19, 2014\nSocial 
 time:  6:00 to 7:00 p.m.\nMeeting:  7:00 to 8:30 p.m.\n\nOn The Rox 
 Parker/Denver\n11957 Lioness Way\n\nParker, CO\n\nhttp://www.ontherox
 bar.com/ParkerHome.html\n\n\n\nFor more information visit http://arapa
 hoeteaparty.ning.com/events/douglas-county-young-republicans-hosts-and
 y-peth-s-one-line-one-s
DTSTART:20140620T000000Z
DTEND:20140620T023000Z
CATEGORIES:speaker
LOCATION:On The Rox Parker/Denver
WEBSITE:
URL:
CONTACT:
ORGANIZER:posted by W. Branstetter
ATTACH;FMTTYPE="image/jpeg":
ATTENDEE;ROLE=REQ-PARTICIPANT;PARTSTAT=TENTATIVE;RSVP=TRUE;CN="W. Bran
 stetter":http://arapahoeteaparty.ning.com/profile/WBranstetter
END:VEVENT
END:VCALENDAR
