BEGIN:VCALENDAR
PRODID:NingEventWidget-v1
VERSION:2.0
METHOD:PUBLISH
BEGIN:VEVENT
UID:3186561:Event:48010
DTSTAMP:20210313T181524Z
SUMMARY:Douglas County School Board Candidate Forum
DESCRIPTION:Douglas County School Board Candidate Forum\n \nThe Leagu
 e of Women Voters  will sponsor a candidate forum for all eight candi
 dates running for positions on the Douglas County School Board. Four o
 f the seven 4-year term positions are up for election.\n \nMonday, Oc
 tober 14 at  6:30 - 8:30 p.m.\nEastridge Community Center\n9568 S. Un
 iversity Blvd.\nHighlands Ranch, CO 80126\n \nThe District B candidat
 es vying for the seat held by John Carson, who is term-limited, are:\n
 Barbara Chase\nJim Geddes\n \nThe District D candidates seeking the p
 osition currently held by incumbent Carrie Mendoza, who is not seeking
  reelection, are:\nJulie Keim\nJudith Reynolds\n \nThe District E can
 didates are:\nDoug Benevento, the incumbent\nBill Hodges\n \nThe Dist
 rict G candidates are:\nMeghann Silverthorn, the incumbent\nRonda Scho
 lting\n \nRegardless of where Douglas County voters live, they are el
 igible  to vote for a candidate in each of the four districts.  The f
 orum is free and open to the public.  For more information, call 303-3
 46-4496.\n \nThe flyer:\nhttp://lwvarapahoe.org/files/Douglas_School_
 Board_Forum_flyer.pdf\n \nList of events for Arapahoe County LWV: \n
 http://lwvarapahoe.org/Public_Events.html\n \n \n \n\nFor more info
 rmation visit http://arapahoeteaparty.ning.com/events/douglas-county-s
 chool-board-candidate-forum
DTSTART:20131015T003000Z
DTEND:20131015T023000Z
CATEGORIES:"candidate forum"
LOCATION:Eastridge Community Center
WEBSITE:http://lwvarapahoe.org/Public_Events.html
URL:http://lwvarapahoe.org/Public_Events.html
CONTACT:
ORGANIZER:LWV [posted by W. Branstetter]
ATTACH;FMTTYPE="image/jpeg":
END:VEVENT
END:VCALENDAR
