BEGIN:VCALENDAR
PRODID:NingEventWidget-v1
VERSION:2.0
METHOD:PUBLISH
BEGIN:VEVENT
UID:3186561:Event:5248
DTSTAMP:20210313T182741Z
SUMMARY:Douglas County and State Candidate forum
DESCRIPTION:The Douglas County Republican Women, RBlock Party and the 
 Douglas County Young Republicans will host this forum from 6:00 p.m. t
 o 9:00 p.m. at the Southridge Rec. Center at 4800 MacArthur Ranch Road
  in Highlands Ranch. Please RSVP to mhaeflein@comcast.net. Thanks.\n\n
 For more information visit http://arapahoeteaparty.ning.com/events/dou
 glas-county-and-state
DTSTART:20100701T000000Z
DTEND:20100701T010000Z
CATEGORIES:forum
LOCATION:Southridge Rec. Center
WEBSITE:
URL:
CONTACT:
ORGANIZER;CN="Chairman's Committee":http://arapahoeteaparty.ning.com/p
 rofile/chairmanscommittee
ATTACH;FMTTYPE="image/jpeg":
ATTENDEE;ROLE=REQ-PARTICIPANT;PARTSTAT=ACCEPTED;RSVP=TRUE;CN="Kathleen
  Conti":http://arapahoeteaparty.ning.com/profile/KathleenConti
ATTENDEE;ROLE=REQ-PARTICIPANT;PARTSTAT=ACCEPTED;RSVP=TRUE;CN="Chairman
 's Committee":http://arapahoeteaparty.ning.com/profile/chairmanscommit
 tee
END:VEVENT
END:VCALENDAR
