BEGIN:VCALENDAR
PRODID:NingEventWidget-v1
VERSION:2.0
METHOD:PUBLISH
BEGIN:VEVENT
UID:3186561:Event:52111
DTSTAMP:20210313T175522Z
SUMMARY:Documentary (premiere): \"Rocky Mountain Heist\"
DESCRIPTION:Tickets are free but an RSVP is needed October 20, 2014 to
 :\n\nMadisonMoore@CitizensUnited.org\n(800) 362-4788\n\nDoors open:  
 6:30 p.m.\nMovie at:  7:00 p.m.\nReception to follow\n\nHyatt Regency
  Denver at Colorado Convention Center\nSkyscraper in Denver, Colorado\
 nCentennial Ballroom\n650 15th Street\nDenver, Colorado \n\nDocumenta
 ry narrated by Michelle Malkin.\n\nhttp://rockymountainheist.com/\n\nE
 ven if you cannot attend this event, watch for TV listings.  It will 
 be advertised on ESPN with football game tonight.\n\nOrder the DVD on 
 the web site.\n\n\n\nFor more information visit http://arapahoeteapart
 y.ning.com/events/documentary-premiere-rocky-mountain-heist
DTSTART:20141023T003000Z
DTEND:20141023T033000Z
CATEGORIES:movie
LOCATION:Hyatt Regency Denver at Colorado Convention Center
WEBSITE:http://rockymountainheist.com/
URL:http://rockymountainheist.com/
CONTACT:(800) 362-4788
ORGANIZER:Citizens United [posted by W. Branstetter]
ATTACH;FMTTYPE="image/jpeg":
ATTENDEE;ROLE=REQ-PARTICIPANT;PARTSTAT=ACCEPTED;RSVP=TRUE;CN="Philip C
  Sekar":http://arapahoeteaparty.ning.com/profile/PhilipCSekar
ATTENDEE;ROLE=REQ-PARTICIPANT;PARTSTAT=ACCEPTED;RSVP=TRUE;CN="Jim Harg
 is":http://arapahoeteaparty.ning.com/profile/JimHargis
ATTENDEE;ROLE=REQ-PARTICIPANT;PARTSTAT=TENTATIVE;RSVP=TRUE;CN="W. Bran
 stetter":http://arapahoeteaparty.ning.com/profile/WBranstetter
END:VEVENT
END:VCALENDAR
