BEGIN:VCALENDAR
PRODID:NingEventWidget-v1
VERSION:2.0
METHOD:PUBLISH
BEGIN:VEVENT
UID:3186561:Event:41266
DTSTAMP:20210313T172534Z
SUMMARY:Documentary:  \"InJustice\" [the film]
DESCRIPTION:The documentary focuses on the greed and corruption in the
  law suit \"industry.\"  Be sure to check this out on AXS TV--check y
 our cable listings for channel.\n \nThis is an hour-long program that
  is worth the time and consideration.\n\nhttp://www.injusticethefilm.c
 om/\n\nTrailer:\nhttp://www.youtube.com/watch?v=0c17PG4nTng\nhttp://ww
 w.youtube.com/watch?v=4MF00kXblIY\n\n**********************\n\nThe pro
 gram airs at 9:00 p.m. ET.  The time shown in this event announcement
  is 7:00 p.m. for mountain time zone.\n\n \n\n\nFor more information 
 visit http://arapahoeteaparty.ning.com/events/documentary-injustice-th
 e-film
DTSTART:20130102T020000Z
DTEND:20130102T030000Z
CATEGORIES:documentary
LOCATION:AXS TV channel
WEBSITE:http://www.injusticethefilm.com/
URL:http://www.injusticethefilm.com/
CONTACT:
ORGANIZER:posted by W. Branstetter
ATTACH;FMTTYPE="image/jpeg":
ATTENDEE;ROLE=REQ-PARTICIPANT;PARTSTAT=ACCEPTED;RSVP=TRUE;CN="W. Brans
 tetter":http://arapahoeteaparty.ning.com/profile/WBranstetter
END:VEVENT
END:VCALENDAR
