BEGIN:VCALENDAR
PRODID:NingEventWidget-v1
VERSION:2.0
METHOD:PUBLISH
BEGIN:VEVENT
UID:3186561:Event:41902
DTSTAMP:20210313T175009Z
SUMMARY:Documentary:  \"FrackNation:  The Truth Runs Deep\"
DESCRIPTION:The documentary will be shown again on AXS TV in the Denv
 er metro Comcast area on Saturday, January 26 and again February 2 (ti
 me shown is Mountain Time).  Excellent movie!  \n \nThis documentar
 y was posted as an event earlier and some of the reviews can be found 
 with that announcement:\n \nhttp://arapahoeteaparty.ning.com/events/d
 ocumentary-fracknation-the-truth-runs-deep\n \n**********************
 \n \nThe premier of \"FrackNation\" will air on AXS TV at 9:00 p.m. E
 T on Tuesday, January 22, 2013.  Ann McElhinney is one of the promote
 rs of this film. \n \nThis documentary is a counter to the movie \"G
 as Land\" and the new fiction movie that will be released in early Ja
 nuary with Matt Damon that is partially funded by connections with the
  United Arab Emirates.\n \nhttp://fracknation.com/\n \nDo try to wat
 ch this documentary.  Check listings for the length of the program.\n
  \n***************************\n \nNote that there is another short 
 video that is available that may be helpful in the meanwhile is \"Trut
 hLand\" with both the trailer and the longer feature available:\n \nh
 ttp://www.truthlandmovie.com/\n \n \n********************\nFrackNati
 on can be pre-ordered and will ship February 7 on DVD.\n\n\n\n\nFor mo
 re information visit http://arapahoeteaparty.ning.com/events/documenta
 ry-fracknation-the-truth-runs-deep-2
DTSTART:20130202T150000Z
DTEND:20130202T163000Z
CATEGORIES:documentary, tv
LOCATION:your cable TV--AXS TV
WEBSITE:http://fracknation.com/
URL:http://fracknation.com/
CONTACT:
ORGANIZER:posted by W. Branstetter
ATTACH;FMTTYPE="image/jpeg":
ATTENDEE;ROLE=REQ-PARTICIPANT;PARTSTAT=ACCEPTED;RSVP=TRUE;CN="W. Brans
 tetter":http://arapahoeteaparty.ning.com/profile/WBranstetter
END:VEVENT
END:VCALENDAR
