BEGIN:VCALENDAR
PRODID:NingEventWidget-v1
VERSION:2.0
METHOD:PUBLISH
BEGIN:VEVENT
UID:3186561:Event:41702
DTSTAMP:20210313T171747Z
SUMMARY:Derrick Wilburn with American Conservatives of Color at Dora's
  Mexican Restaurant
DESCRIPTION:\nSpeaker:  Derrick Wilburn, Rocky Mtn. Black Conservativ
 es\nTopic:  “The Importance of Color”\nHost:  Dora at Dora's Mex
 ican Restaurant\nWhen:  Sunday, January 27 -- 2:00 p.m. to 4:00 p.m.\
 nWhere: \nDora's Mexican Restaurant & Lounge\n2406 South Parker Road\
 nDenver, Colorado  80231\n(303) 368-1527\nhttp://www.dorasmexican.com
 /\n(located near East Iliff Avenue and South Parker Road)\n\nmap:  ht
 tps://maps.google.com/maps?hl=en&q=Dora's+Mexican+Resturant,+2406+Sout
 h+Parker+Road,+Denver,+CO+80231\n \nDerrick Wilburn is actively promo
 ting efforts and ideas to get conservatives of all colors communicatin
 g and involved.  Since organizing the group now called Rocky Mountain
  Black Conservatives, Derrick has been speaking all over Colorado and 
 is working to develop a national group \"American Conservatives of Co
 lor.\"   A video of an interview of Derrick by Jon Caldera for \"D
 evil's Advocate\" has just been posted and presents a starting point f
 or the message:\n \nhttp://www.youtube.com/watch?v=6cxzMI2XHf0\n \nh
 ttp://blackandconservative.com/\n \nCheck out podcasts of his radio
  program from Colorado Springs:\nhttp://blackwhiteandright.podbean.com
 /\n\nThere is no football, so bring a neighbor and come out for this m
 eeting.\n \nSince this is for a meeting and an extra use of the locat
 ion, the menu may be limited so be flexible.   If more details becom
 e available they will be posted here.\n \nPlease indicate your intere
 st in attending this event in the RSVP section here.  It will help th
 e organizers.\n \nQuestions, please contact:  admin@rmbtp.org\n \n
 \nwww.facebook.com/rmbtp\ntwitter: Black&Conservative @derrickwilburn
 \n\n \n \n \n\n\n\nFor more information visit http://arapahoeteapar
 ty.ning.com/events/derrick-wilburn-with-american-conservatives-of-colo
 r-at-dora-s-me
DTSTART:20130127T210000Z
DTEND:20130127T230000Z
CATEGORIES:speaker
LOCATION:Dora's Mexican Restaurant & Lounge
WEBSITE:http://blackandconservative.com/
URL:http://blackandconservative.com/
CONTACT:
ORGANIZER:Derrick, Dora, and Darlene [posted by W. Branstetter]
ATTACH;FMTTYPE="image/jpeg":
ATTENDEE;ROLE=REQ-PARTICIPANT;PARTSTAT=ACCEPTED;RSVP=TRUE;CN="Raeleen 
 Jamieson":http://arapahoeteaparty.ning.com/profile/RaeleenJamieson
ATTENDEE;ROLE=REQ-PARTICIPANT;PARTSTAT=ACCEPTED;RSVP=TRUE;CN=Joyce:htt
 p://arapahoeteaparty.ning.com/profile/Joyce
ATTENDEE;ROLE=REQ-PARTICIPANT;PARTSTAT=ACCEPTED;RSVP=TRUE;CN="W. Brans
 tetter":http://arapahoeteaparty.ning.com/profile/WBranstetter
END:VEVENT
END:VCALENDAR
