BEGIN:VCALENDAR
PRODID:NingEventWidget-v1
VERSION:2.0
METHOD:PUBLISH
BEGIN:VEVENT
UID:3186561:Event:57670
DTSTAMP:20210313T173122Z
SUMMARY:Denver Liberty on the Rocks:  \"Why the Short-run Matters\" wi
 th Jon Caldera
DESCRIPTION:Denver Liberty on the Rocks\nWednesday, May 4, 2016 -- 6:0
 0 to 9:00 p.m.\n\"Why the Short-run Matters\" with Jon Caldera\nChoppe
 r's Sports Grill\n80 South Madison Street\nDenver, CO\n\nSee event ann
 ouncement at the Facebook page for a complete description:\nhttps://ww
 w.facebook.com/events/157890811276534/\n\nJoin your favorite bunch of 
 libertarians as we explore this important topic! Is it better to avoid
  politics and the \"system\" all together or should we be fighting the
  battle for liberty on all fronts?\n\n\n\n\nFor more information visit
  http://arapahoeteaparty.ning.com/events/denver-liberty-on-the-rocks-w
 hy-the-short-run-matters-with-jon-ca
DTSTART:20160505T000000Z
DTEND:20160505T030000Z
CATEGORIES:meeting
LOCATION:Choppers Sports Grill
WEBSITE:https://www.facebook.com/events/157890811276534/
URL:https://www.facebook.com/events/157890811276534/
CONTACT:
ORGANIZER:posted by W. Branstetter
ATTACH;FMTTYPE="image/jpeg":
ATTENDEE;ROLE=REQ-PARTICIPANT;PARTSTAT=TENTATIVE;RSVP=TRUE;CN="Larry L
  Schick":http://arapahoeteaparty.ning.com/profile/LarryLSchick
ATTENDEE;ROLE=REQ-PARTICIPANT;PARTSTAT=TENTATIVE;RSVP=TRUE;CN="W. Bran
 stetter":http://arapahoeteaparty.ning.com/profile/WBranstetter
END:VEVENT
END:VCALENDAR
