BEGIN:VCALENDAR
PRODID:NingEventWidget-v1
VERSION:2.0
METHOD:PUBLISH
BEGIN:VEVENT
UID:3186561:Event:42047
DTSTAMP:20210313T174234Z
SUMMARY:Denver Day of Resistance (at the Capitol)
DESCRIPTION:This event was posted on Facebook by  Rainer Steinbauer a
 nd Dave Green.\n\nSaturday, February 23, 2013\nTime:  11:00 a.m. to 1
 :00 a.m.\nColorado Capitol\n200 East Colfax Avenue\nDenver, Colorado 
 \n \nhttps://www.facebook.com/events/491985480865049/permalink/492883
 270775270/\n \n\"Take a stand for our 2nd Amendment! It is not about 
 hunting or home defense but a matter of national security! We must tak
 e a stand and let the Colorado State and Federal Government know that 
 we support and defend the Constitution of the United States. The event
  is a family friendly event, please bring flags and signs to show your
  support. Make them to the point, and legible from a far. This event w
 ill not be open carry because it is against Denver laws.\"  \"A well r
 egulated Militia, being necessary to the security of a free State, the
  right of the people to keep and bear Arms, shall not be infringed.\"\
 n \n*************************\n\nPlease talk with your family and nei
 ghbors about the votes and comments the legislators are making at the 
 capitol.  Get informed and involved.\n \nBe sure to find out who you
 r state representative and senator is and sign up for e-mail alerts to
  their bills and townhalls.  Attend their next townhall and ask quest
 ions.\n \n \n\nFor more information visit http://arapahoeteaparty.ni
 ng.com/events/denver-day-of-resistance-at-the-capitol
DTSTART:20130223T180000Z
DTEND:20130223T200000Z
CATEGORIES:rally
LOCATION:At or near Colorado Capitol
WEBSITE:
URL:
CONTACT:
ORGANIZER:[posted by W. Branstetter]
ATTACH;FMTTYPE="image/jpeg":
ATTENDEE;ROLE=REQ-PARTICIPANT;PARTSTAT=ACCEPTED;RSVP=TRUE;CN="Joseph W
 illiam Gabriele":http://arapahoeteaparty.ning.com/profile/JosephWillia
 mGabriele
ATTENDEE;ROLE=REQ-PARTICIPANT;PARTSTAT=ACCEPTED;RSVP=TRUE;CN="Lorraine
  Cecil":http://arapahoeteaparty.ning.com/profile/LorraineCecil
ATTENDEE;ROLE=REQ-PARTICIPANT;PARTSTAT=TENTATIVE;RSVP=TRUE;CN="W. Bran
 stetter":http://arapahoeteaparty.ning.com/profile/WBranstetter
END:VEVENT
END:VCALENDAR
