BEGIN:VCALENDAR
PRODID:NingEventWidget-v1
VERSION:2.0
METHOD:PUBLISH
BEGIN:VEVENT
UID:3186561:Event:53071
DTSTAMP:20210313T172908Z
SUMMARY:December Meeting Reminder: Arapahoe Tea Party
DESCRIPTION:Join the Arapahoe Tea Party and the Colorado Tea Party Pat
 riots for our December 9, 2014, meeting.\n\nRandy Corporon has invited
 :-- Anil Mathai from Adams County GOP\n\n-- Jimmy Sengenberger with Li
 berty Day (.org)\nhttp://www.libertyday.org/\n\n-- Lily Tang Williams,
  who has compared \"Common Core\" to Chinese education, indoctrination
 \n\n-- Discussion how grassroots groups can affect county and state el
 ections within a party.  Ideas?\n\n\nAs with all of the meetings, com
 e early for a good seat.  There may be additions to the program.\n\nO
 ur meetings have been standing room only, so come early!\n \nTuesday,
  December 9, 2014 6:30-8:30 pm South Metro Fire Rescue 9195 E. Mineral
  Ave. Centennial, CO 80112\n \nWatch for other announcements from Ran
 dy Corporon regarding speakers or topics.  Listen to KLZ 560 radio.\n
 \nEvent announcement on Facebook:\n \n \n\n \nIf you would be inter
 ested in helping with a committee or two that might help make meetings
  and events run smoother, would you please post a brief comment with t
 his announcement.\n \nIf you are not connected via Facebook, please f
 ind the group \"Arapahoe Tea Party\" \nhttps://www.facebook.com/group
 s/arapahoeteaparty\n \n*************************\n\nNOTE:  Please do
  not contact the building management for information about this event.
   The group sponsoring the event has contact information at the link 
 provided above.\n\n\n\nFor more information visit http://arapahoeteapa
 rty.ning.com/events/december-meeting-reminder-arapahoe-tea-party
DTSTART:20141210T013000Z
DTEND:20141210T033000Z
CATEGORIES:"monthly meeting"
LOCATION:South Metro Fire Rescue Authority; Mineral Headquarters, Boar
 d Room
WEBSITE:https://maps.google.com/maps?oe=utf-8&client=firefox-a&ie=UTF-
 8&q=south+metro+fire+rescue+authority+mineral+headquarters&fb=1&gl=us&
 hq=south+metro+fire+rescue+authority+mineral+headquarters&cid=0,0,9189
 900575761474566&ei=wsvZUfvrHoWQyQHR5oGQCg&ved=0CIcBEPwSMAA
URL:https://maps.google.com/maps?oe=utf-8&client=firefox-a&ie=UTF-8&q=
 south+metro+fire+rescue+authority+mineral+headquarters&fb=1&gl=us&hq=s
 outh+metro+fire+rescue+authority+mineral+headquarters&cid=0,0,91899005
 75761474566&ei=wsvZUfvrHoWQyQHR5oGQCg&ved=0CIcBEPwSMAA
CONTACT:303-885-2550
ORGANIZER:Regina Thomson and Randy Corporon [posted by W. Branstetter]
ATTACH;FMTTYPE="image/jpeg":
ATTENDEE;ROLE=REQ-PARTICIPANT;PARTSTAT=ACCEPTED;RSVP=TRUE;CN="Randy B 
 Corporon":http://arapahoeteaparty.ning.com/profile/RandyBCorporon
ATTENDEE;ROLE=REQ-PARTICIPANT;PARTSTAT=ACCEPTED;RSVP=TRUE;CN="W. Brans
 tetter":http://arapahoeteaparty.ning.com/profile/WBranstetter
END:VEVENT
END:VCALENDAR
