BEGIN:VCALENDAR
PRODID:NingEventWidget-v1
VERSION:2.0
METHOD:PUBLISH
BEGIN:VEVENT
UID:3186561:Event:48673
DTSTAMP:20210313T171448Z
SUMMARY:Debut:  “Wake Up with Randy Corporon” radio program on KLZ
  560 AM
DESCRIPTION:Arapahoe County Tea Party chairman Randy Corporon has been
  tapped to host a new program on KLZ 560 radio starting Monday, Januar
 y 6, 2014.  The program will air weekday mornings (M-F) between 5:00 
 and 7:00 a.m.\n“Wake Up with Randy Corporon”\n \nOn KLZ 560 AM 
  “The Source”\nhttp://www.560thesource.com/\n\n Show can be heard 
 along the front range of Colorado.   Out of range??  Just listen on 
 TuneIn Radio anywhere in the world!!\n\n\n\n************************\n
 \nUse the \"Listen\" button on the KLZ 560 web site listed above for c
 omputer connection to the show.\n\n**************************\n\n\nThe
 re is a Facebook events page for the debut program at:\n\nhttps://www.
 facebook.com/events/254703728026510/?source=1\n\nLeave your ideas for 
 future shows on this Facebook page if you use Facebook.  \n\nTune in 
 for more information.\n\nPodcasts will be coming.\n\nStudio line: 303-
 477-5600.\n\n***********************************\n\nRandy undoubtedly 
 will have lots of material to kick off his new program considering Col
 orado legislature starts Wednesday and there is so much to do and talk
  about.\n\n\n\nFor more information visit http://arapahoeteaparty.ning
 .com/events/debut-wake-up-with-randy-corporon-radio-program-on-klz-560
 -am
DTSTART:20140106T120000Z
DTEND:20140106T140000Z
CATEGORIES:"radio show"
LOCATION:\"KLZ 560 AM the source radio\"
WEBSITE:http://www.560thesource.com/
URL:http://www.560thesource.com/
CONTACT:
ORGANIZER:Randy  B. Corporon [posted by W. Branstetter]
ATTACH;FMTTYPE="image/jpeg":
ATTENDEE;ROLE=REQ-PARTICIPANT;PARTSTAT=ACCEPTED;RSVP=TRUE;CN="Randy B 
 Corporon":http://arapahoeteaparty.ning.com/profile/RandyBCorporon
ATTENDEE;ROLE=REQ-PARTICIPANT;PARTSTAT=ACCEPTED;RSVP=TRUE;CN="W. Brans
 tetter":http://arapahoeteaparty.ning.com/profile/WBranstetter
END:VEVENT
END:VCALENDAR
