BEGIN:VCALENDAR
PRODID:NingEventWidget-v1
VERSION:2.0
METHOD:PUBLISH
BEGIN:VEVENT
UID:3186561:Event:31765
DTSTAMP:20210313T182754Z
SUMMARY:Debate:  Thanksgiving Family Forum from Des Moines
DESCRIPTION:The \"Thanksgiving Family Forum\" from Des Moines, Iowa, w
 ill be held this afternoon at 3:00 p.m. (Mountain).  This event is no
 t televised but is available through livestream and select radio stati
 ons.  Six of the GOP candidates are scheduled.\n \nRadio stations in
  Colorado: \nDenver -- KRKS-FM 94.7 and KRKS-AM\nhttp://www.947krks.c
 om/\nColorado Springs -- KGFT-FM 100.7\n \nLivestream is supposed to 
 be available at:  http://www.citizenlink.com/\n \nFor information on
  this event:\nhttp://www.2012presidentialelectionnews.com/2011/11/iowa
 -thanksgiving-family-forum-today-at-5pm-et/\n \nFor a schedule of pre
 vious and future events along with links to videos from the events:\nh
 ttp://www.2012presidentialelectionnews.com/2012-debate-schedule/2011-2
 012-primary-debate-schedule/\n \n \n\nFor more information visit htt
 p://arapahoeteaparty.ning.com/events/debate-thanksgiving-family-forum-
 from-des-moines
DTSTART:20111119T220000Z
DTEND:20111120T000000Z
CATEGORIES:debate
LOCATION:radio or internet from Des Moines, Iowa
WEBSITE:http://www.citizenlink.com/
URL:http://www.citizenlink.com/
CONTACT:
ORGANIZER:posted by W. Branstetter
ATTACH;FMTTYPE="image/jpeg":
ATTENDEE;ROLE=REQ-PARTICIPANT;PARTSTAT=ACCEPTED;RSVP=TRUE;CN="W. Brans
 tetter":http://arapahoeteaparty.ning.com/profile/WBranstetter
END:VEVENT
END:VCALENDAR
