BEGIN:VCALENDAR
PRODID:NingEventWidget-v1
VERSION:2.0
METHOD:PUBLISH
BEGIN:VEVENT
UID:3186561:Event:28462
DTSTAMP:20210313T174705Z
SUMMARY:Debate on Prop 103 Tax Increase at Rep. Spencer Swalm's Townha
 ll
DESCRIPTION:State Representative Spencer Swalm is having a townhall wi
 th a discussion of Proposition 103.Â \nÂ \nThe debate will feature:\nÂ
  \nTerry Scanlon - Fiscal Policy Director, Colorado Fiscal Policy Inst
 itute -- CFPI is the progressive, \"non-partisan\" organization that c
 omes up with the creative numbers that support bigger government, tax 
 increases, and demonizes TABOR\nhttp://www.cclponline.org/fiscal_polic
 y\nÂ \nvs\nÂ \nJustin Everett - Small Business Owner\nÂ \nJustin could
  use your support since it sure looks like he may be out-matched.Â  He
  has been practicing a lot though.Â  Here is your chance to get out an
 d find out more about this Proposition 103.\nÂ \nhttp://www.facebook.c
 om/event.php?eid=190396107704550&mid=50\nÂ \nÂ \n\nFor more informatio
 n visit http://arapahoeteaparty.ning.com/events/debate-on-prop-103-tax
 -increase-at-rep-spencer-swalm-s-townhall
DTSTART:20111022T150000Z
DTEND:20111022T180000Z
CATEGORIES:townhall, debate
LOCATION:Koebel Library
WEBSITE:http://maps.google.com/maps/ms?ie=UTF8&hl=en&msa=0&msid=111947
 304187195641637.0004892bdec006a7f74ed&ll=39.624202,-104.925613&spn=0.1
 02736,0.222988&z=13&iwloc=000490b91b56724444c13
URL:http://maps.google.com/maps/ms?ie=UTF8&hl=en&msa=0&msid=1119473041
 87195641637.0004892bdec006a7f74ed&ll=39.624202,-104.925613&spn=0.10273
 6,0.222988&z=13&iwloc=000490b91b56724444c13
CONTACT:
ORGANIZER:posted by W. Branstetter
ATTACH;FMTTYPE="image/jpeg":
ATTENDEE;ROLE=REQ-PARTICIPANT;PARTSTAT=TENTATIVE;RSVP=TRUE;CN="W. Bran
 stetter":http://arapahoeteaparty.ning.com/profile/WBranstetter
END:VEVENT
END:VCALENDAR
