BEGIN:VCALENDAR
PRODID:NingEventWidget-v1
VERSION:2.0
METHOD:PUBLISH
BEGIN:VEVENT
UID:3186561:Event:55155
DTSTAMP:20210313T180347Z
SUMMARY:Debate on CBS:  Democrat Presidential Candidates
DESCRIPTION:The debate for the Democrat presidential candidates is sch
 eduled to air on CBS channel (or check the web site for livestream lin
 k) at 7:00 to 9:00 p.m. MT.\n\nhttp://www.cbs.com/\n\nIt looks like th
 e Bernie Sanders' team has offered some pre-debate fireworks about a p
 ossible change to the debate based on the Paris attacks.  See article
  from Drudge Report:\n\nhttps://www.yahoo.com/politics/sanders-aide-pu
 shes-back-against-cbs-switch-to-215805298.html\n\n\nFor more informati
 on visit http://arapahoeteaparty.ning.com/events/debate-on-cbs-democra
 t-presidential-candidates
DTSTART:20151115T020000Z
DTEND:20151115T040000Z
CATEGORIES:debate
LOCATION:TV or internet
WEBSITE:http://www.cbs.com/
URL:http://www.cbs.com/
CONTACT:
ORGANIZER:posted by W. Branstetter
ATTACH;FMTTYPE="image/jpeg":
ATTENDEE;ROLE=REQ-PARTICIPANT;PARTSTAT=ACCEPTED;RSVP=TRUE;CN="W. Brans
 tetter":http://arapahoeteaparty.ning.com/profile/WBranstetter
END:VEVENT
END:VCALENDAR
