BEGIN:VCALENDAR
PRODID:NingEventWidget-v1
VERSION:2.0
METHOD:PUBLISH
BEGIN:VEVENT
UID:3186561:Event:52054
DTSTAMP:20210313T180320Z
SUMMARY:Debate:  Candidates for Attorney General
DESCRIPTION:Several bar associations in Colorado are sponsoring a deba
 te with three candidates for attorney general this afternoon 4:30 p.m.
  to 6:00 p.m.  There is an e-mail address for an RSVP to attend or vi
 a the webcast.\n\nhttp://cbaclelegalconnection.com/2014/09/colorado-at
 torney-general-debate-held-cba-cle-offices/\n\nCLE in Colorado, Inc.(a
 /k/a Colorado Bar Association CLE)1900 Grant Street, Third FloorDenver
 , CO 80203303-860-0608\nemail execdir@cwba.org.\n\n\n\nSorry I just f
 ound this event, so it is only a couple of hours to get there if you c
 an RSVP.\n\n\nFor more information visit http://arapahoeteaparty.ning.
 com/events/debate-candidates-for-attorney-general
DTSTART:20141006T223000Z
DTEND:20141007T000000Z
CATEGORIES:debate
LOCATION:CLE in Colorado, Inc.
WEBSITE:http://cbaclelegalconnection.com/2014/09/colorado-attorney-gen
 eral-debate-held-cba-cle-offices/
URL:http://cbaclelegalconnection.com/2014/09/colorado-attorney-general
 -debate-held-cba-cle-offices/
CONTACT:
ORGANIZER:CBA-CLE [posted by W. Branstetter]
ATTACH;FMTTYPE="image/jpeg":
END:VEVENT
END:VCALENDAR
