BEGIN:VCALENDAR
PRODID:NingEventWidget-v1
VERSION:2.0
METHOD:PUBLISH
BEGIN:VEVENT
UID:3186561:Event:38548
DTSTAMP:20210313T173030Z
SUMMARY:Debate:  18th Judicial District--District Attorney Candidates
DESCRIPTION:\"Business Leaders for Responsible Government is happy to 
 host Ethan Feldman and George Brauchler as they discuss their differen
 ces and strengths as the key prosecutor for the 18th Judicial District
 .\n\nThe District Attorney's Office represents the people of the 18th 
 Judicial District, Arapahoe, Douglas, Elbert and Lincoln Counties in a
 ll state misdemeanor and felony criminal cases. The office not only pr
 osecutes crime, but also offers many programs designed to prevent crim
 e and provide education concerning ways to keep our children, seniors 
 and community safe.\"\n\nNote: Please RSVP at the following web site s
 o the organizers are familiar with your interest.\n\nhttp://www.meetup
 .com/bestchamber/events/77577302/\n\nOther events of interest through 
 the South Metro Denver Chamber are available at their home page:\n\nht
 tp://www.bestchamber.com/\n\n***************************\n\nThis is a 
 morning event.\n\nFor more information visit http://arapahoeteaparty.n
 ing.com/events/debate-18th-judicial-district-district-attorney-candida
 tes
DTSTART:20120926T133000Z
DTEND:20120926T150000Z
CATEGORIES:debate
LOCATION:South Metro Denver Chamber Offices
WEBSITE:http://www.bestchamber.com/
URL:http://www.bestchamber.com/
CONTACT:
ORGANIZER:[posted by W. Branstetter]
ATTACH;FMTTYPE="image/jpeg":
ATTENDEE;ROLE=REQ-PARTICIPANT;PARTSTAT=TENTATIVE;RSVP=TRUE;CN="W. Bran
 stetter":http://arapahoeteaparty.ning.com/profile/WBranstetter
END:VEVENT
END:VCALENDAR
