BEGIN:VCALENDAR
PRODID:NingEventWidget-v1
VERSION:2.0
METHOD:PUBLISH
BEGIN:VEVENT
UID:3186561:Event:40306
DTSTAMP:20210313T174924Z
SUMMARY:Colorado Women's Alliance Forum on \"I Care About The Economy\
 "
DESCRIPTION:Join Colorado Women's Alliance on Wednesday morning for a 
 forum talking about women and the economy. National and local media wi
 ll be covering our conversation. \"I Care About The Economy\"\n \nwww
 .economyvoter.com\n\nThe purpose of the forum is to educate and discus
  topics pertaining to the economy.\n\nModerator:  Jane Norton\nPaneli
 sts:  Dr. Jill Vecchio, Lizzy Norris-Cohen, Molly Vogt, Colorado Sena
 tor Ellen Roberts and more\n\nWednesday, October 3 at 7:00 a.m. to 8:0
 0 a.m.\nCourtyard by Marriott Denver Cherry Creek\n1475 South Colorado
  Boulevard\nDenver, Colorado\n \nFor interviews or additional informa
 tion contact:\nMichelle Lyng\n(202) 380-7114\nmblyng@novitascommunicat
 ions.com\n \n\nFor more information visit http://arapahoeteaparty.nin
 g.com/events/colorado-women-s-alliance-forum-on-i-care-about-the-econo
 my
DTSTART:20121003T130000Z
DTEND:20121003T140000Z
CATEGORIES:forum, debate
LOCATION:Courtyard by Marriott Denver Cherry Creek
WEBSITE:http://www.economyvoter.com
URL:http://www.economyvoter.com
CONTACT:
ORGANIZER:posted by W. Branstetter
ATTACH;FMTTYPE="image/jpeg":
ATTENDEE;ROLE=REQ-PARTICIPANT;PARTSTAT=TENTATIVE;RSVP=TRUE;CN="W. Bran
 stetter":http://arapahoeteaparty.ning.com/profile/WBranstetter
END:VEVENT
END:VCALENDAR
