BEGIN:VCALENDAR
PRODID:NingEventWidget-v1
VERSION:2.0
METHOD:PUBLISH
BEGIN:VEVENT
UID:3186561:Event:4593
DTSTAMP:20210313T174406Z
SUMMARY:Colorado US Congressional District 7 Candidates Debate
DESCRIPTION:The College Republicans from the School of Mines are hosti
 ng \"Colorado US Congressional District 7 Candidates Debate\" on Monda
 y, May 17 at 5:00pm.\n\nEvent: Colorado US Congressional District 7 Ca
 ndidates Debate\nStart Time: Monday, May 17 at 5:00pm\nEnd Time: Monda
 y, May 17 at 9:30pm\nWhere: Jefferson County Fairgrounds Exhibit Halls
 \n\nMonday May 17th The Colorado School of Mines College Republicans a
 re Hosting a Candidates Debate for US Congressional District 7. These 
 candidates include:\n\nMichael Deming http://www.demingforcongress.com
 /\nRyan Frazier http://www.frazierforcolorado.com/\nMike Sheeley http:
 //www.sheelyforcongress.com/\nLang Sias http://www.langsias.com/\n\nAl
 l are great Candidates for the Republican Ticket, so Colorado School o
 f Mines College Republicans club decided it would be a great idea to h
 ost a Debate on issues that we face in the political, and economic cli
 mate to today. This is an important race this year, and CSM Republican
 s want the People who live in Congressional District 7 to be able to m
 ake a well informed decision as to who we want to represent the Republ
 ican Ticket in the November election.\n\nBraden Johnson, President of 
 the Colorado School of Mines Republicans will be Moderating this debat
 e. A straw pole will be taken in order to see who the people of CD 7 w
 ant to represent them and the great state of Colorado in the November 
 election against Ed Perlmutter. The CSM republicans hope that this deb
 ate will shape the vote that will be taken at the Congressional Confer
 ence on the 21st of May.\n\nCity, County and State Republican Candidat
 es have also been invited to set up tables to allow you to know about 
 their campaigns as well, and get to know the candidates personally. Th
 e doors will open at 5 pm for time to meet all of the candidates and e
 at some snacks, the Debates will begin at 7 pm.\n\nFor more informatio
 n visit http://arapahoeteaparty.ning.com/events/colorado-us-congressio
 nal
DTSTART:20100517T230000Z
DTEND:20100518T033000Z
CATEGORIES:debate
LOCATION:JeffCo Fairgrounds
WEBSITE:
URL:
CONTACT:303-271-6600
ORGANIZER:Denver Front-Range 9-12
ATTACH;FMTTYPE="image/jpeg":
ATTENDEE;ROLE=REQ-PARTICIPANT;PARTSTAT=ACCEPTED;RSVP=TRUE;CN="Steven H
 aworth":http://arapahoeteaparty.ning.com/profile/StevenHaworth
ATTENDEE;ROLE=REQ-PARTICIPANT;PARTSTAT=ACCEPTED;RSVP=TRUE;CN="Eric Jae
 ger":http://arapahoeteaparty.ning.com/profile/EricJaeger
ATTENDEE;ROLE=REQ-PARTICIPANT;PARTSTAT=ACCEPTED;RSVP=TRUE;CN="Donna Ay
 delott":http://arapahoeteaparty.ning.com/profile/DonnaAydelott
ATTENDEE;ROLE=REQ-PARTICIPANT;PARTSTAT=ACCEPTED;RSVP=TRUE;CN="Chairman
 's Committee":http://arapahoeteaparty.ning.com/profile/chairmanscommit
 tee
ATTENDEE;ROLE=REQ-PARTICIPANT;PARTSTAT=TENTATIVE;RSVP=TRUE;CN="W. Bran
 stetter":http://arapahoeteaparty.ning.com/profile/WBranstetter
END:VEVENT
END:VCALENDAR
