BEGIN:VCALENDAR
PRODID:NingEventWidget-v1
VERSION:2.0
METHOD:PUBLISH
BEGIN:VEVENT
UID:3186561:Event:54875
DTSTAMP:20210313T171047Z
SUMMARY:Colorado Jewish Republicans Meeting:  Wm. Perry Pendley of Mtn
 . States Legal Foundation
DESCRIPTION:Colorado Jewish Republicans\nWednesday, June 17 at 6:30 PM
 East Side Kosher Deli499 S Elm Street\nDenver, CO\nhttp://j-gop.com/\n
 \nYou don't have to be Jewish, you just have to be committed to restor
 ing our Constitutional Republic. No charge to attend, but we request t
 hat you order at least $6 food or drink off the menu so we can continu
 e to meet at the restaurant.\n\nSpeaker ~ William Perry Pendley, Presi
 dent of Mountain States Legal Foundation ~ one of the very few law fir
 ms willing to defend individuals against the unlimited resources of Lo
 cal, State and Federal government.  Perry's monthly column, Summary J
 udgment, appears throughout the country and he's the author of four bo
 oks, the latest is Sagebrush Rebel: Reagan’s Battle with Environment
 al Extremists and Why It Matters Today\n\n\nSee recent article taking 
 up the fight of the Riverton, Wyoming, hospital suddenly under laws of
  a reservation after 2013 EPA rule:\n\nhttp://pjmedia.com/blog/obama-a
 dmin-deems-part-of-wyoming-tribal-land-putting-hospital-in-legal-battl
 e/\n\nMountains States Legal:\nhttps://www.mountainstateslegal.org/\n\
 n\n\n\n\n\n\n\n\nFor more information visit http://arapahoeteaparty.ni
 ng.com/events/colorado-jewish-republicans-meeting-wm-perry-pendley-of-
 mtn-state
DTSTART:20150618T003000Z
DTEND:20150618T023000Z
CATEGORIES:meeting
LOCATION:East Side Kosher Deli
WEBSITE:http://j-gop.com/
URL:http://j-gop.com/
CONTACT:
ORGANIZER:[posted by W. Branstetter]
ATTACH;FMTTYPE="image/jpeg":
ATTENDEE;ROLE=REQ-PARTICIPANT;PARTSTAT=TENTATIVE;RSVP=TRUE;CN="W. Bran
 stetter":http://arapahoeteaparty.ning.com/profile/WBranstetter
END:VEVENT
END:VCALENDAR
