BEGIN:VCALENDAR
PRODID:NingEventWidget-v1
VERSION:2.0
METHOD:PUBLISH
BEGIN:VEVENT
UID:3186561:Event:35947
DTSTAMP:20210313T175156Z
SUMMARY:Colorado Hispanic Republicans:  \"The Immigration Landscape\"
DESCRIPTION:The speaker for the Colorado Hispanic Republicans meeting 
 will be Christine Mastin, immigration attorney.Â  The topic is \"The I
 mmigration Landscape:Â  What we CAN fix and SHOULD fix without \"compr
 ehensive\" immigration reform.\"Â \nÂ \nhttp://coloradohispanicrepubli
 cans.org/en/Events.htm\nÂ \nRSVP:\nBRING YOUR FRIENDS AND KINDLY RSVP 
 TO:Â Â Â Â Â Â Â Â Â Â Â Â Â Â Â  j.rodriguez@coloradohispanicrepublic
 ans.org\nÂ \n****************************\nÂ \nNote that this is a vib
 rant and growing group that welcomes interest and support.Â  Speakers 
 from this group have been attending other groups and outling their pro
 jects for growth and informing the public of their presence.Â  Check o
 ut their web site, editorials,Â and get involved if you find something
  of interest.Â Â A newsletter isÂ available with a registration of you
 r interest.\nÂ \nhttp://coloradohispanicrepublicans.org/en/Home.htm\nÂ
  \nÂ \nÂ \nÂ \n\nFor more information visit http://arapahoeteaparty.ni
 ng.com/events/colorado-hispanic-republicans-the-immigration-landscape
DTSTART:20120511T003000Z
DTEND:20120511T030000Z
CATEGORIES:meeting
LOCATION:EL SEÃ‘OR SOL-TAPAS RESTAURANT
WEBSITE:http://coloradohispanicrepublicans.org/en/Events.htm
URL:http://coloradohispanicrepublicans.org/en/Events.htm
CONTACT:
ORGANIZER:Colorado Hispanic Republicans
ATTACH;FMTTYPE="image/jpeg":
ATTENDEE;ROLE=REQ-PARTICIPANT;PARTSTAT=TENTATIVE;RSVP=TRUE;CN="Chairma
 n's Committee":http://arapahoeteaparty.ning.com/profile/chairmanscommi
 ttee
END:VEVENT
END:VCALENDAR
