BEGIN:VCALENDAR
PRODID:NingEventWidget-v1
VERSION:2.0
METHOD:PUBLISH
BEGIN:VEVENT
UID:3186561:Event:62969
DTSTAMP:20210313T170952Z
SUMMARY:Colorado Conservatives Meeting with Ross Kaminsky from KHOW ra
 dio (Please RSVP to Nancy Doty)
DESCRIPTION:\r\nMust RSVP by noon October 23 to Nancy Doty to be seate
 d!\r\nWhen: Wednesday, October 25, 2017 atÂ 6:30 p.m.Â \r\n\r\nWhere:Â
   Las Brisas\r\nÂ  Â  Â  Â  Â  Â  6787 South Clinton Street\r\nÂ  Â  Â
   Â  Â  Â  Greenwood Village, CO 80112\r\nÂ  Â  Â Just east of I-25 & 
 Arapahoe Rd, across from Target\r\n\r\n\r\n\r\nGuest speaker this mont
 h,Â Ross Kaminsky, popularÂ KHOW talk show hostÂ every morning fromÂ 5
  to 10 a.m.Â  Ross brings a distinctly libertarian viewpoint to his li
 steners andÂ cares about your opinion.Â Â So for our meeting on the 25
 th,Â Ross has requested that we let him know what we want him to discu
 ss!Â  When you rsvp to Nancy for this meeting,Â please include one que
 stion or issue that youâ€™d like to have Ross address--topics politics
 , sports, financial markets, tax reform, social issues, military, scie
 nce and more!.Â Â \r\nÂ \r\n\r\nPlease Note:Â There is a $12 cover cha
 rgeÂ which includes a taco bar buffet, soft drink, dessert and the cos
 t of the meeting room. Alcoholic drinks can be purchased at a separate
  cash bar.\r\nÂ \r\nAlso, if you RSVP and then do not attend, you will
  be required to cover the cost of your meal as the restaurant has incu
 rred the expense and requires payment for the meal.\r\nÂ \r\n\r\n\r\nE
 vents are very well attended and seating is limited.\r\nRSVPs are requ
 ired by Monday, October 23 noon toÂ nancydoty@comcast.net\r\nÂ Â \r\n\
 r\nArrive early (6:00 p.m.) for a good seat.\r\n\r\nEveryone is welcom
 e to RSVP, so please invite family and friends.\r\nÂ \r\n\r\n\r\n\r\n\
 r\n\r\n\r\n\r\n\r\n\r\n\r\n\r\n\r\n\r\n***************\r\n\r\n\r\n\r\n
 \r\n\r\n\r\n\r\n\r\n\r\n\r\n\r\n\r\nNote Las Brisas web site:\r\nhttp:
 //www.lasbrisascolorado.com/\r\nmap:\r\nhttp://mapq.st/1ce8EiK\r\nÂ \n
 \nFor more information visit http://arapahoeteaparty.ning.com/events/c
 olorado-conservatives-meeting-with-ross-kaminsky-from-khow-radio
DTSTART:20171026T003000Z
DTEND:20171026T030000Z
CATEGORIES:meeting
LOCATION:Las Brisas
WEBSITE:http://mapq.st/1ce8EiK
URL:http://mapq.st/1ce8EiK
CONTACT:Please RSVP to nancydoty@comcast.net by August 21
ORGANIZER:Nancy Doty [posted by W. Branstetter]
ATTACH;FMTTYPE="image/jpeg":
ATTENDEE;ROLE=REQ-PARTICIPANT;PARTSTAT=ACCEPTED;RSVP=TRUE;CN="W. Brans
 tetter":http://arapahoeteaparty.ning.com/profile/WBranstetter
END:VEVENT
END:VCALENDAR
