BEGIN:VCALENDAR
PRODID:NingEventWidget-v1
VERSION:2.0
METHOD:PUBLISH
BEGIN:VEVENT
UID:3186561:Event:64778
DTSTAMP:20210313T170942Z
SUMMARY:Colorado Conservatives Meeting with Nosh Tarachand and Roger E
 dwards (Please RSVP to Nancy Doty)
DESCRIPTION:\r\nMust RSVP by noon February 26 to Nancy Doty via e-mail
  to be seated!\r\nWhen: Wednesday, February 28, 2018 at 6:30 p.m. \r
 \n\r\nWhere:  Las Brisas\r\n            6787 South Clinton Stre
 et\r\n            Greenwood Village, CO 80112\r\n     Just ea
 st of I-25 & Arapahoe Rd, across from Target\r\n\r\n\r\n\r\nGuest spea
 kers this month:\r\n\r\nNosh Tarachand will report on new nonprofit to
  help immigrants assimilate\r\n\r\nMarc Scott, Arapahoe County Assesso
 r\r\nRoger Edwards, primary candidate for Congressional District 6\r\n
  \r\n\r\nPlease Note: There is a $12 cover charge which includes a 
 taco bar buffet, soft drink, dessert and the cost of the meeting room.
  Alcoholic drinks can be purchased at a separate cash bar.\r\n \r\nAl
 so, if you RSVP and then do not attend, you will be required to cover 
 the cost of your meal as the restaurant has incurred the expense and r
 equires payment for the meal.\r\n \r\n\r\n\r\nEvents are very well at
 tended and seating is limited.\r\nRSVPs are required by Monday, Februa
 ry 26 noon to nancydoty@comcast.net\r\n  \r\n\r\nArrive early (6:00
  p.m.) for a good seat.\r\n\r\nEveryone is welcome to RSVP, so please 
 invite family and friends.\r\n \r\n\r\n\r\n\r\n\r\n\r\n\r\n\r\n\r\n\r
 \n\r\n\r\n\r\n\r\n***************\r\n\r\n\r\n\r\n\r\n\r\n\r\n\r\n\r\n\
 r\n\r\n\r\n\r\nNote Las Brisas web site:\r\nhttp://www.lasbrisascolora
 do.com/\r\nmap:\r\nhttp://mapq.st/1ce8EiK\r\n \n\nFor more informatio
 n visit http://arapahoeteaparty.ning.com/events/colorado-conservatives
 -meeting-with-nosh-tarachand-and-roger-edwa
DTSTART:20180301T013000Z
DTEND:20180301T040000Z
CATEGORIES:meeting
LOCATION:Las Brisas
WEBSITE:http://mapq.st/1ce8EiK
URL:http://mapq.st/1ce8EiK
CONTACT:Please RSVP to nancydoty@comcast.net by noon February 26
ORGANIZER:Nancy Doty [posted by W. Branstetter]
ATTACH;FMTTYPE="image/jpeg":
ATTENDEE;ROLE=REQ-PARTICIPANT;PARTSTAT=ACCEPTED;RSVP=TRUE;CN="W. Brans
 tetter":http://arapahoeteaparty.ning.com/profile/WBranstetter
END:VEVENT
END:VCALENDAR
