BEGIN:VCALENDAR
PRODID:NingEventWidget-v1
VERSION:2.0
METHOD:PUBLISH
BEGIN:VEVENT
UID:3186561:Event:63572
DTSTAMP:20210313T170943Z
SUMMARY:Colorado Conservatives Meeting with George Brauchler, DA and c
 andidate for state attorney general (Please RSVP to Nancy Doty)
DESCRIPTION:\r\nMust RSVP by noon November 27 to Nancy Doty to be seat
 ed!\r\nWhen: Wednesday, November 29, 2017 atÂ 6:30 p.m.Â \r\n\r\nWhere
 :Â  Las Brisas\r\nÂ  Â  Â  Â  Â  Â  6787 South Clinton Street\r\nÂ  Â 
  Â  Â  Â  Â  Greenwood Village, CO 80112\r\nÂ  Â  Â Just east of I-25 
 & Arapahoe Rd, across from Target\r\n\r\n\r\n\r\nGuest speaker this mo
 nth,Â George Brauchler, currentÂ DA for the 18thÂ Judicial District, a
 nd now seeking to be our nextÂ Colorado Attorney General. The office i
 s the stateâ€™s largest law firm and charged with the responsibility o
 f upholding and defending our laws.\r\nÂ Â \r\nÂ \r\n\r\nPlease Note:Â
  There is a $12 cover chargeÂ which includes a taco bar buffet, soft d
 rink, dessert and the cost of the meeting room. Alcoholic drinks can b
 e purchased at a separate cash bar.\r\nÂ \r\nAlso, if you RSVP and the
 n do not attend, you will be required to cover the cost of your meal a
 s the restaurant has incurred the expense and requires payment for the
  meal.\r\nÂ \r\n\r\n\r\nEvents are very well attended and seating is l
 imited.\r\nRSVPs are required by Monday, November 27 noon toÂ nancydot
 y@comcast.net\r\nÂ Â \r\n\r\nArrive early (6:00 p.m.) for a good seat.
 \r\n\r\nEveryone is welcome to RSVP, so please invite family and frien
 ds.\r\nÂ \r\n\r\n\r\n\r\n\r\n\r\n\r\n\r\n\r\n\r\n\r\n\r\n\r\n\r\n*****
 **********\r\n\r\n\r\n\r\n\r\n\r\n\r\n\r\n\r\n\r\n\r\n\r\n\r\nNote Las
  Brisas web site:\r\nhttp://www.lasbrisascolorado.com/\r\nmap:\r\nhttp
 ://mapq.st/1ce8EiK\r\nÂ \n\nFor more information visit http://arapahoe
 teaparty.ning.com/events/colorado-conservatives-meeting-with-george-br
 auchler-da-and-candi
DTSTART:20171130T013000Z
DTEND:20171130T040000Z
CATEGORIES:meeting
LOCATION:Las Brisas
WEBSITE:http://mapq.st/1ce8EiK
URL:http://mapq.st/1ce8EiK
CONTACT:Please RSVP to nancydoty@comcast.net by November 27
ORGANIZER:Nancy Doty [posted by W. Branstetter]
ATTACH;FMTTYPE="image/jpeg":
ATTENDEE;ROLE=REQ-PARTICIPANT;PARTSTAT=ACCEPTED;RSVP=TRUE;CN="W. Brans
 tetter":http://arapahoeteaparty.ning.com/profile/WBranstetter
END:VEVENT
END:VCALENDAR
