BEGIN:VCALENDAR
PRODID:NingEventWidget-v1
VERSION:2.0
METHOD:PUBLISH
BEGIN:VEVENT
UID:3186561:Event:48715
DTSTAMP:20210313T180943Z
SUMMARY:Colorado Conservatives Meeting:  Walker Stapleton, Colorado Tr
 easurer
DESCRIPTION:Please join us to hearÂ Walker Stapleton'sÂ insight on Col
 orado's financial health along with his views of the political climate
  in our state.Â  Treasurer Stapleton is outspoken about theÂ future of
  PERAÂ and what that means for taxpayers.\nStapleton is the State's 43
 rd State TreasurerÂ and is running for re-election this year.Â  The du
 ties of the State Treasurer include investing tax dollars, overseeing 
 the unclaimed property division and serving on the board of Public Emp
 loyee Retirement Association (PERA).\nStapleton's goals include bringi
 ng a higher level of accountability and transparency to government.Â Â
  Let's hear his vision and share our opinions about the role of govern
 ment in our lives.\nÂ \nPLEASE NOTE:Â  OUR MEETING LOCATION IS NOW AT 
 LAS BRISAS\nÂ \nALSO,Â rather than ordering from the menu, there will 
 be an optional taco bar buffet for $10 per person.Â  This includes des
 sert and soda/coffee.Â  Alcoholic drinks will be a separate cash bar.\
 nÂ \nÂ \nEveryone is welcome, so please invite family and friends.\nÂ 
 \nPlease RSVP by noon onÂ Monday,Â January 27th so that the restaurant
  can adequately plan for service for our group.\nÂ \nPlease e-mail Nan
 cy Doty (address below)Â if youÂ plan to attendÂ so that arrangements 
 for the room and staff can be made.Â Â Â \nÂ Â \nWhen:Â  Wednesday,Â J
 anuary 29, 2014, 6:30 p.m.\nÂ \nWhere (new location):\nLas Brisas\n678
 7 S. Clinton Street, Greenwood Village, CO\nJust east of I-25 and Arap
 ahoe Road\nÂ \nPlease invite your friends and family.Â  All are welcom
 e!Â  Please RSVP to Nancy Doty so that some idea is available for the 
 size of the room and if additional staff will be needed for dinner ord
 ers.\nÂ \nPlease RSVP to nancydoty@comcast.net\nÂ \n******************
 ***\n\n\n\n\n\n\n\n\n\n\n\n\nÂ \nNote:Â  This group has been meeting a
 bout two years and has some very good topics and speakers.Â  Their eve
 nts are posted at Meetup.com; check them out; bring a friend.\n Â ****
 ******************\nÂ Note Las Brisas web site:\nÂ \nhttp://www.lasbri
 sascolorado.com/\nÂ \nmap:\nhttp://mapq.st/1ce8EiK\nÂ \nÂ \n\nFor more
  information visit http://arapahoeteaparty.ning.com/events/colorado-co
 nservatives-meeting-walker-stapleton-colorado-treasure
DTSTART:20140130T013000Z
DTEND:20140130T040000Z
CATEGORIES:meeting
LOCATION:Las Brisas
WEBSITE:http://mapq.st/1ce8EiK
URL:http://mapq.st/1ce8EiK
CONTACT:Please RSVP to nancydoty@comcast.net
ORGANIZER:Nancy Doty [posted by W. Branstetter]
ATTACH;FMTTYPE="image/jpeg":
ATTENDEE;ROLE=REQ-PARTICIPANT;PARTSTAT=ACCEPTED;RSVP=TRUE;CN="John Don
 ovan":http://arapahoeteaparty.ning.com/profile/JohnDonovan
ATTENDEE;ROLE=REQ-PARTICIPANT;PARTSTAT=TENTATIVE;RSVP=TRUE;CN="W. Bran
 stetter":http://arapahoeteaparty.ning.com/profile/WBranstetter
END:VEVENT
END:VCALENDAR
