BEGIN:VCALENDAR
PRODID:NingEventWidget-v1
VERSION:2.0
METHOD:PUBLISH
BEGIN:VEVENT
UID:3186561:Event:58956
DTSTAMP:20210313T170933Z
SUMMARY:Colorado Conservatives Meeting:  Vince Carroll (Please RSVP to
  Nancy Doty)
DESCRIPTION:Must RSVP to Nancy Doty to be seated!\nWhen: Wednesday, No
 vember 16, 2016 at 6:30 p.m. \nWhere:  Las Brisas\n          
  6787 South Clinton Street\n            Greenwood Village, CO 8
 0112\n     Just east of I-25 and Arapahoe Road, across from Target\
 nNancy Doty writes:  Please join us to hear from Vince Carroll, colu
 mnist for The Denver Post, former editorial page editor, and longtime 
 editor of the editorial pages of the Rocky Mountain News\n(oh, how we 
 miss that the RMN!).  He will be analyzing and discussing “the Goo
 d, the Bad, and the Ugly” of the November 8th election results.\n 
 \nJoin us to hear what he thinks happened in this election and what th
 e future looks like for our conservative principles.  [No meeting in 
 December.]\n\n \nPlease Note: There is a $12 cover charge which inc
 ludes a taco bar buffet, soft drink, dessert and the cost of the meeti
 ng room. Alcoholic drinks can be purchased at a separate cash bar.\n 
 \nAlso, if you RSVP and then do not attend, you will be required to co
 ver the cost of your meal as the restaurant has incurred the expense a
 nd requires payment for the meal.\n \n\n\nEvents are very well attend
 ed and seating is limited.\nRSVPs are required by Monday, November 14 
 noon to nancydoty@comcast.net\n  \n\nArrive early (6:00 p.m.) for a
  good seat.\nEveryone is welcome, so please invite family and friends.
 \n \n\n***************\n\n\n\n\n\n\n\n\n\n\n\n\nNote Las Brisas web s
 ite:\nhttp://www.lasbrisascolorado.com/\nmap:\nhttp://mapq.st/1ce8EiK\
 n \n\nFor more information visit http://arapahoeteaparty.ning.com/eve
 nts/colorado-conservatives-meeting-vince-carroll-please-rsvp-to-nancy
DTSTART:20161117T013000Z
DTEND:20161117T040000Z
CATEGORIES:meeting
LOCATION:Las Brisas
WEBSITE:http://mapq.st/1ce8EiK
URL:http://mapq.st/1ce8EiK
CONTACT:Please RSVP to nancydoty@comcast.net by Oct. 24
ORGANIZER:Nancy Doty [posted by W. Branstetter]
ATTACH;FMTTYPE="image/jpeg":
ATTENDEE;ROLE=REQ-PARTICIPANT;PARTSTAT=ACCEPTED;RSVP=TRUE;CN="Hannah B
 ushnell":http://arapahoeteaparty.ning.com/profile/HannahBushnell
ATTENDEE;ROLE=REQ-PARTICIPANT;PARTSTAT=ACCEPTED;RSVP=TRUE;CN="Cindy Kl
 oman":http://arapahoeteaparty.ning.com/profile/CindyKloman
ATTENDEE;ROLE=REQ-PARTICIPANT;PARTSTAT=ACCEPTED;RSVP=TRUE;CN="W. Brans
 tetter":http://arapahoeteaparty.ning.com/profile/WBranstetter
END:VEVENT
END:VCALENDAR
