BEGIN:VCALENDAR
PRODID:NingEventWidget-v1
VERSION:2.0
METHOD:PUBLISH
BEGIN:VEVENT
UID:3186561:Event:56095
DTSTAMP:20210313T174119Z
SUMMARY:Colorado Conservatives Meeting:  US Senate Candidates (Event n
 eeds RSVP to Nancy Doty)
DESCRIPTION:Please join us to hear from our Republican US Senate Candi
 dates. There are 13 people who have announced candidacy for US Senate.
 \nThe successful candidate in the June Primary Election will face Demo
 crat Michael Bennet. This race is expected to be one of the most watch
 ed in the US in 2016.\nThe Democratic Party is expected to pour a huge
  amount of money into the raceÂ in order to retain this seat.Â \n\nAtt
 end this Meetup to hear from the Republican candidates.\nÂ \nNOTE: THE
 RE IS A REQUIRED $12 COVER CHARGE. This includes a taco bar buffet, so
 ft drinks, sopapilla dessert and the cost of the meeting room.\nAlcoho
 lic drinks can be purchased at a separate cash bar.\nÂ \nALSO, if you 
 RSVP and then do not attend, then please know that you will be require
 d to cover the cost of your meal at the restaurant has incurred the ex
 pense and requires payment for the meal.\nÂ \nThis event is expected t
 o be very well attended and seating is limited.\nÂ \nRSVPs are require
 d by Monday, February 22ndÂ toÂ nancydoty@comcast.net\nÂ Â \n\n\n\nWhe
 n: Â  Â Wednesday, February 24, 2016Time: Â  Â Â 6:30 p.m.Â \nWhere: Â
  Las Brisas\nÂ  Â  Â  Â  Â  Â  Â  6787 S. Clinton Street,\nÂ  Â  Â  Â 
  Â  Â  Â  Greenwood Village, CO\nCost: Â $12.00Â \n.\nArrive early for
  a good seat.\nLas Brisas expects payment for each RSVP is a meal prep
 ared--Â if you rsvp and then do not attend, then please know that you 
 will be required to cover the cost of your meal as the restaurant has 
 incurred the expense and requires the payment for the meal.\nÂ \n\nÂ \
 n\n***************\n\n\n\n\n\n\n\n\n\n\n\n\nNote Las Brisas web site:\
 nhttp://www.lasbrisascolorado.com/\nmap:\nhttp://mapq.st/1ce8EiK\nÂ \n
 \nFor more information visit http://arapahoeteaparty.ning.com/events/c
 olorado-conservatives-meeting-us-senate-candidates-event-needs-r
DTSTART:20160225T013000Z
DTEND:20160225T040000Z
CATEGORIES:meeting
LOCATION:Las Brisas
WEBSITE:http://mapq.st/1ce8EiK
URL:http://mapq.st/1ce8EiK
CONTACT:Please RSVP to nancydoty@comcast.net
ORGANIZER:Nancy Doty [posted by W. Branstetter]
ATTACH;FMTTYPE="image/jpeg":
ATTENDEE;ROLE=REQ-PARTICIPANT;PARTSTAT=ACCEPTED;RSVP=TRUE;CN="W. Brans
 tetter":http://arapahoeteaparty.ning.com/profile/WBranstetter
END:VEVENT
END:VCALENDAR
