BEGIN:VCALENDAR
PRODID:NingEventWidget-v1
VERSION:2.0
METHOD:PUBLISH
BEGIN:VEVENT
UID:3186561:Event:46523
DTSTAMP:20210313T171824Z
SUMMARY:Colorado Conservatives Meeting UPDATED:  Peter Boyles fills in
DESCRIPTION:NOTE:  Speaker has been changed:  \"Due to a scheduling 
 issue, Tom Tancredo cannot be with us on Wednesday, June 26th at Garci
 a's.  BUT Peter Boyles, well known radio talk show personality will b
 e filling in for Tom.  He will give us his opinion about the State of
  the Republican Party in Colorado and what he believes needs to be d
 one to win the 2014 conservative races...especially the Governor's rac
 e.  Peter Boyles always has an opinion and is not shy about talking a
 bout his views on any topic.\"\n [Former congressman Tom Tancredo and
  candidate for the Colorado governor's race was originally scheduled 
 for the event.] \n \n Please e-mail Nancy Doty (address below) if 
 you plan to attend so that arrangements for the room and staff can b
 e made.   \n \nNote that the group will take a break for a couple 
 of months and the next meeting will be \n \nEveryone is welcome, so
  please invite family and friends to hear about these important issues
 .  Also, there is no room charge, but attendees are urged to purchase
  a food or drink item to help defray the cost to the restaurant.\"\n 
 \nWhen:  Wednesday, June 26, 2013, 6:30 p.m.\n \nWhere:\nGarcia's M
 exican Restaurant\n5050 S. Syracuse Street,\nDenver, CO 80237\nJust of
 f I-25 and Belleview\n  \nPlease invite your friends and family.  A
 ll are welcome!  Please RSVP to Nancy Doty so that some idea is avail
 able for the size of the room and if additional staff will be needed f
 or dinner orders.\n \nPlease RSVP to nancydoty@comcast.net\n \nNOTE:
   Garcia's is located just off I-25 and Belleview.  We will have our
  own room and waiter.  While there is no cover charge for our group, 
 please do plan to order something to eat and drink as the group must o
 rder at least $250 worth of food/beverage for us to continue to meet t
 here.\n*********************\n\n\n\n\n\n\n\n\n\n\n\n\n \nNote:  This
  group has been meeting about two years and has some very good topics 
 and speakers.  Their events are posted at Meetup.com; check them out;
  bring a friend.\n **********************\n \n \n\nhttp://www.meetup
 .com//Conservative-Adult-Singles/events/calendar/\n \n\nFor more info
 rmation visit http://arapahoeteaparty.ning.com/events/colorado-conserv
 atives-meeting-updated-peter-boyles-fills-in
DTSTART:20130627T003000Z
DTEND:20130627T030000Z
CATEGORIES:meeting
LOCATION:Garcia's Mexican Restaurant
WEBSITE:http://www.meetup.com/Conservative-Adult-Singles/events/
URL:http://www.meetup.com/Conservative-Adult-Singles/events/
CONTACT:Please RSVP to nancydoty@comcast.net
ORGANIZER:Nancy Doty [posted by W. Branstetter]
ATTACH;FMTTYPE="image/jpeg":
ATTENDEE;ROLE=REQ-PARTICIPANT;PARTSTAT=TENTATIVE;RSVP=TRUE;CN="W. Bran
 stetter":http://arapahoeteaparty.ning.com/profile/WBranstetter
END:VEVENT
END:VCALENDAR
