BEGIN:VCALENDAR
PRODID:NingEventWidget-v1
VERSION:2.0
METHOD:PUBLISH
BEGIN:VEVENT
UID:3186561:Event:62862
DTSTAMP:20210313T170956Z
SUMMARY:Colorado Conservatives Meeting:  Topic \"Will Your Vote Matter
  in the Next Election?\" (Please RSVP to Nancy Doty)
DESCRIPTION:\r\nMust RSVP by noon September 25 to Nancy Doty to be sea
 ted!\r\nWhen: Wednesday, September 27, 2017 atÂ 6:30 p.m.Â \r\n\r\nWhe
 re:Â  Las Brisas\r\nÂ  Â  Â  Â  Â  Â  6787 South Clinton Street\r\nÂ  
 Â  Â  Â  Â  Â  Greenwood Village, CO 80112\r\nÂ  Â  Â Just east of I-2
 5 & Arapahoe Rd, across from Target\r\n\r\n\r\n\r\nState Senator Tim N
 eville willÂ discuss what the Democrats are doing to win the Governorâ
 €™s race in 2018, the campaign by the League of Women Voters to change
  how redistricting of Coloradoâ€™s congressional districts and state l
 egislative districts is accomplished, and important potential future l
 egislation.\r\n\r\nMatt Crane, Arapahoe County Clerk & Recorder and ch
 ief election official for the County, will provide valuable informatio
 n what to expect in this yearâ€™s November local elections and how Ope
 n Primaries will affect elections in 2018.Â  This change will affect c
 andidate campaigns and determine the Republican and Democratic general
  election candidates in November 2018.\r\nÂ \r\n\r\nPlease Note:Â Ther
 e is a $12 cover chargeÂ which includes a taco bar buffet, soft drink,
  dessert and the cost of the meeting room. Alcoholic drinks can be pur
 chased at a separate cash bar.\r\nÂ \r\nAlso, if you RSVP and then do 
 not attend, you will be required to cover the cost of your meal as the
  restaurant has incurred the expense and requires payment for the meal
 .\r\nÂ \r\n\r\n\r\nEvents are very well attended and seating is limite
 d.\r\nRSVPs are required by Monday, September 25 noon toÂ nancydoty@co
 mcast.net\r\nÂ Â \r\n\r\nArrive early (6:00 p.m.) for a good seat.\r\n
 \r\nEveryone is welcome, so please invite family and friends.\r\nÂ \r\
 n\r\n\r\n\r\n\r\n\r\n\r\n\r\n\r\n\r\n\r\n\r\n\r\n\r\n***************\r
 \n\r\n\r\n\r\n\r\n\r\n\r\n\r\n\r\n\r\n\r\n\r\n\r\nNote Las Brisas web 
 site:\r\nhttp://www.lasbrisascolorado.com/\r\nmap:\r\nhttp://mapq.st/1
 ce8EiK\r\nÂ \n\nFor more information visit http://arapahoeteaparty.nin
 g.com/events/colorado-conservatives-meeting-topic-will-your-vote-matte
 r-in-the
DTSTART:20170928T003000Z
DTEND:20170928T030000Z
CATEGORIES:meeting
LOCATION:Las Brisas
WEBSITE:http://mapq.st/1ce8EiK
URL:http://mapq.st/1ce8EiK
CONTACT:Please RSVP to nancydoty@comcast.net by August 21
ORGANIZER:Nancy Doty [posted by W. Branstetter]
ATTACH;FMTTYPE="image/jpeg":
ATTENDEE;ROLE=REQ-PARTICIPANT;PARTSTAT=ACCEPTED;RSVP=TRUE;CN="W. Brans
 tetter":http://arapahoeteaparty.ning.com/profile/WBranstetter
END:VEVENT
END:VCALENDAR
