BEGIN:VCALENDAR
PRODID:NingEventWidget-v1
VERSION:2.0
METHOD:PUBLISH
BEGIN:VEVENT
UID:3186561:Event:46500
DTSTAMP:20210313T171811Z
SUMMARY:Colorado Conservatives Meeting:  Peter Boyles will replace Tom
  Tancredo, speaker
DESCRIPTION:  Former congressman Tom Tancredo and candidate for the C
 olorado governor's race will be the speaker for the event. \nTancredo
  will discuss why he has decided to run for governor in 2014 and his o
 pinions about legalizing marijuana.  He will also discuss the recent 
 legislation regarding gun control and new election mandates plus his s
 tand on immigration, border security, the reprieve for Nathan Dunlap, 
 and more!  This promises to be a lively discussion.\n \n Please e-m
 ail Nancy Doty (address below) if you plan to attend so that arrang
 ements for the room and staff can be made.   \n \nNote that the gr
 oup will take a break for a couple of months and the next meeting wil
 l be \n \nEveryone is welcome, so please invite family and friends t
 o hear about these important issues.  Also, there is no room charge, 
 but attendees are urged to purchase a food or drink item to help defra
 y the cost to the restaurant.\"\n \nWhen:  Wednesday, June 26, 2013
 , 6:30 p.m.\n \nWhere:\nGarcia's Mexican Restaurant\n5050 S. Syracuse
  Street,\nDenver, CO 80237\nJust off I-25 and Belleview\n  \nPlease 
 invite your friends and family.  All are welcome!  Please RSVP to Na
 ncy Doty so that some idea is available for the size of the room and i
 f additional staff will be needed for dinner orders.\n \nPlease RSVP 
 to nancydoty@comcast.net\n \nNOTE:  Garcia's is located just off I-2
 5 and Belleview.  We will have our own room and waiter.  While there
  is no cover charge for our group, please do plan to order something t
 o eat and drink as the group must order at least $250 worth of food/be
 verage for us to continue to meet there.\n*********************\nBackg
 round of speaker:\nTom as born and raised in Colorado, was a member of
  the Colorado State Legislature, 1976-1981, elected to the One Hundred
  Sixth Congress and to the four succeeding Congresses, 1999-2009, cand
 idate for President in 2008 and candidate for Governor in 2010.  \n\n
 \n\n\n\n\n\n\n\n\n\n\n****************************\n \nNote:  This g
 roup has been meeting about two years and has some very good topics an
 d speakers.  Their events are posted at Meetup.com; check them out; b
 ring a friend.\n **********************\n \n \n\nhttp://www.meetup.c
 om//Conservative-Adult-Singles/events/calendar/\n \n\nFor more inform
 ation visit http://arapahoeteaparty.ning.com/events/colorado-conservat
 ives-meeting-tom-tancredo-speaker
DTSTART:20130627T003000Z
DTEND:20130627T030000Z
CATEGORIES:meeting
LOCATION:Garcia's Mexican Restaurant
WEBSITE:http://www.meetup.com/Conservative-Adult-Singles/events/
URL:http://www.meetup.com/Conservative-Adult-Singles/events/
CONTACT:Please RSVP to nancydoty@comcast.net
ORGANIZER:Nancy Doty [posted by W. Branstetter]
ATTACH;FMTTYPE="image/jpeg":
END:VEVENT
END:VCALENDAR
