BEGIN:VCALENDAR
PRODID:NingEventWidget-v1
VERSION:2.0
METHOD:PUBLISH
BEGIN:VEVENT
UID:3186561:Event:51665
DTSTAMP:20210313T181319Z
SUMMARY:Colorado Conservatives Meeting:  Robert Schutzius of Anadarko 
 Petroleum  Corp.
DESCRIPTION:Nancy Doty writes: \"Please join us to hear from Robert S
 chutzius, a Reserves Manager fo Anadarko Petroleum  Corp. in Denver 
 and a Registered Professional Engineer in the State of Colorado.  His
  backgrouond includes more than 22 years of experience in the oil and 
 gas industry and in which he has held both technical and financial rol
 es.  Robert will explain everything you've always wanted to know abo
 ut fracking!\n \nAlso, now that the Governor is convening an 18 memb
 er Oil and Gas Task Force to deal with fracking and the related contr
 oversies, we won't see this issue on the November ballot.  But is thi
 s just a way to get past the November election and then deal with it l
 ater?  Robert will share his opinion about what can be accomplished 
 by the committee or if another means to deal with this topic is prefe
 rable.\"\n\n \n\nPLEASE NOTE:  OUR MEETING LOCATION IS NOW AT LAS BR
 ISAS\n \nALSO, there cover charge of $10 per person for the taco ba
 r, this includes a dessert.  Alcoholic drinks available at a separat
 e cash bar.\n \nEveryone is welcome, so please invite family and frie
 nds.  Come early.  These events are very popular and crowded.\nPleas
 e RSVP by noon on Monday, August 25 so that the restaurant can adequ
 ately plan for service for our group. Please e-mail Nancy Doty (addre
 ss below) if you plan to attend so that arrangements for the room a
 nd staff can be made.    nancydoty@comcast.net \n  \nWhen:  We
 dnesday, August 27, 2014, 6:30 p.m.\nWhere (new location):\nLas Brisa
 s\n6787 S. Clinton Street, Greenwood Village, CO\nJust east of I-25 an
 d Arapahoe Road\n \nPlease invite your friends and family.  All are 
 welcome!  \n \nPlease RSVP to nancydoty@comcast.net\n***************
 \n\n\n\n\n\n\n\n\n\n\n\n\nNote Las Brisas web site:\nhttp://www.lasbri
 sascolorado.com/\nmap:\nhttp://mapq.st/1ce8EiK\n \n\nFor more informa
 tion visit http://arapahoeteaparty.ning.com/events/colorado-conservati
 ves-meeting-robert-schutzius-of-anadarko-petro
DTSTART:20140828T003000Z
DTEND:20140828T030000Z
CATEGORIES:meeting
LOCATION:Las Brisas
WEBSITE:http://mapq.st/1ce8EiK
URL:http://mapq.st/1ce8EiK
CONTACT:Please RSVP to nancydoty@comcast.net
ORGANIZER:Nancy Doty [posted by W. Branstetter]
ATTACH;FMTTYPE="image/jpeg":
ATTENDEE;ROLE=REQ-PARTICIPANT;PARTSTAT=ACCEPTED;RSVP=TRUE;CN="Michael 
 A. Carlson":http://arapahoeteaparty.ning.com/profile/MichaelACarlson67
 7
ATTENDEE;ROLE=REQ-PARTICIPANT;PARTSTAT=ACCEPTED;RSVP=TRUE;CN="W. Brans
 tetter":http://arapahoeteaparty.ning.com/profile/WBranstetter
END:VEVENT
END:VCALENDAR
