BEGIN:VCALENDAR
PRODID:NingEventWidget-v1
VERSION:2.0
METHOD:PUBLISH
BEGIN:VEVENT
UID:3186561:Event:54362
DTSTAMP:20210313T180058Z
SUMMARY:Colorado Conservatives Meeting:  Randy B. Corporon (radio host
 )
DESCRIPTION:Nancy Doty writes:\n \nPlease join us to hear Randy Corpo
 ron, Chair of the Arapahoe County Tea Party. Randy is an attorney a
 nd hosts Denver’s radio KLZ560 “Wake Up With Randy Corporon” eve
 ry weekday 5 to 8 a.m. Randy will discuss his opinion of the status o
 f the Colorado Republican Party, who he favors to be our presidential 
 candidate in 2016, and how to bring unity to our party.\n \nRSVPs ar
 e a must.  Please RSVP to Nancy Doty at nancydoty@comcast.net by M
 onday noon, the 20th.  Seating is limited.\nNote:  There is a requ
 ired $11 cover charge. (An increase of $1 due to restaurant under ne
 w management.) This includes a taco bar buffet, soft drinks, sopapill
 a dessert and the cost of the meeting room.  Alcoholic drinks can be 
 purchased at a separate cash bar.\n\n Also, if you rsvp and then do no
 t attend, then please know that I will have to cover the cost of your 
 meal as the restaurant has incurred the expense and requires the payme
 nt for the meal. \n\nWhen:    Wednesday, April 22, 2015Time:    
 6:30 p.m. (arrive earlier recommended)\nWhere:  Las Brisas\n     
          6787 S. Clinton Street,\n              Greenwood V
 illage, CO\nCost:  $11.00 \n.\nArrive early for a good seat.\nPlease
  rsvp to nancydoty@comcast.net by noon Monday, April 20.  [These m
 eetings always draw a crowd and space is limited.]\n\n\n \n\n********
 *******\n\n\n\n\n\n\n\n\n\n\n\n\nNote Las Brisas web site:\nhttp://www
 .lasbrisascolorado.com/\nmap:\nhttp://mapq.st/1ce8EiK\n \n\nFor more 
 information visit http://arapahoeteaparty.ning.com/events/colorado-con
 servatives-meeting-randy-b-corporon-radio-host
DTSTART:20150423T003000Z
DTEND:20150423T030000Z
CATEGORIES:meeting
LOCATION:Las Brisas
WEBSITE:http://mapq.st/1ce8EiK
URL:http://mapq.st/1ce8EiK
CONTACT:Please RSVP to nancydoty@comcast.net
ORGANIZER:Nancy Doty [posted by W. Branstetter]
ATTACH;FMTTYPE="image/jpeg":
ATTENDEE;ROLE=REQ-PARTICIPANT;PARTSTAT=ACCEPTED;RSVP=TRUE;CN="Randy B 
 Corporon":http://arapahoeteaparty.ning.com/profile/RandyBCorporon
ATTENDEE;ROLE=REQ-PARTICIPANT;PARTSTAT=ACCEPTED;RSVP=TRUE;CN="W. Brans
 tetter":http://arapahoeteaparty.ning.com/profile/WBranstetter
END:VEVENT
END:VCALENDAR
