BEGIN:VCALENDAR
PRODID:NingEventWidget-v1
VERSION:2.0
METHOD:PUBLISH
BEGIN:VEVENT
UID:3186561:Event:58765
DTSTAMP:20210313T181311Z
SUMMARY:Colorado Conservatives Meeting: NO MEETING in June or July
DESCRIPTION:Reminder from Nancy Doty: Â \nALSO, THERE WILLÂ BE NO Â ME
 ETINGS IN JUNE OR JULY DUE TO MANY PEOPLE ON VACATION AND BUSY SCHEDUL
 ES. WATCH FOR AN EXCITING AUGUST MEETING!\nNote that Colorado Conserva
 tives usually meets the 4th Wednesday each month. Â RSVPs to Nancy Dot
 y are a must because the dinner meeting always fills the room to capac
 ity.\nWhen: Wednesday, Â 2016 atÂ 6:30 p.m.\nWhere:Â  Las Brisas\nÂ  Â
   Â  Â  Â  Â  6787 South Clinton Street\nÂ  Â  Â  Â  Â  Â  Greenwood V
 illage, CO 80112\nÂ  Â  Â Just east of I-25 and Arapahoe Road, across 
 from Target\nÂ \nÂ \nPlease Note:Â There is a $12 cover chargeÂ which 
 includes a taco bar buffet, soft drink, dessert and the cost of the me
 eting room. Alcoholic drinks can be purchased at a separate cash bar.\
 nÂ \nEveryone is welcome, so please invite family and friends.\nÂ \nAl
 so, if you RSVP and then do not attend, you will be required to cover 
 the cost of your meal as the restaurant has incurred the expense and r
 equires payment for the meal.\nÂ \n\n\nEvents are very well attended a
 nd seating is limited.\nRSVPs are required by Monday, Â noon toÂ nancy
 doty@comcast.net\nÂ Â \n\nArrive early (6:00 p.m.) for a good seat.\nÂ
  \n\n***************\n\n\n\n\n\n\n\n\n\n\n\n\nNote Las Brisas web site
 :\nhttp://www.lasbrisascolorado.com/\nmap:\nhttp://mapq.st/1ce8EiK\nÂ 
 \n\nFor more information visit http://arapahoeteaparty.ning.com/events
 /colorado-conservatives-meeting-no-meeting-in-june-or-july-1
DTSTART:20160728T003000Z
DTEND:20160728T013000Z
CATEGORIES:meeting
LOCATION:Las Brisas
WEBSITE:http://mapq.st/1ce8EiK
URL:http://mapq.st/1ce8EiK
CONTACT:Please RSVP to nancydoty@comcast.net
ORGANIZER:Nancy Doty [posted by W. Branstetter]
ATTACH;FMTTYPE="image/jpeg":
ATTENDEE;ROLE=REQ-PARTICIPANT;PARTSTAT=ACCEPTED;RSVP=TRUE;CN="W. Brans
 tetter":http://arapahoeteaparty.ning.com/profile/WBranstetter
END:VEVENT
END:VCALENDAR
