BEGIN:VCALENDAR
PRODID:NingEventWidget-v1
VERSION:2.0
METHOD:PUBLISH
BEGIN:VEVENT
UID:3186561:Event:54162
DTSTAMP:20210313T180902Z
SUMMARY:Colorado Conservatives Meeting:  Mike Rosen (radio host)
DESCRIPTION:Nancy Doty writes:\n \nPlease join us to hear from popul
 ar radio talk show host, Mike Rosen.  Mike is a self described conser
 vative political commentator and longtime host of The Mike Rosen Show
 , a political talk radio show on 850 KOA.  He holds the weekday 1 p.
 m. to 3 p.m. time slot.  He also writes a weekly column for The Den
 ver Post.  He will discuss \"Getting to 270 in 2016:  What the GOP h
 as to do to elect a president and maintain control of Congress.\n \nS
 ince this is expected to be a very popular and highly attended meeting
 ,rsvp's are a must.  Please RSVP to Nancy Doty at nancydoty@comcast.n
 et by Monday noon, the 23rd.  Seating is limited.\n \nNote:  There
  is a required $10 cover charge.  This includes a taco bar buffet, s
 oft drinks, sopapilla dessert and the cost of the meeting room.  Alco
 holic drinks can be purchased at a separate cash bar.\n\nWhen:    We
 dnesday, February 25, 2015Time:     6:30 p.m. (arrive earlier recom
 mended)\nWhere:  Las Brisas\n              6787 S. Clinton Str
 eet,\n              Greenwood Village, CO\n.\nEveryone is welco
 me!  Arrive early for a good seat.  RSVP soon.\nPlease rsvp to nanc
 ydoty@comcast.net by Monday, March 23 so the restaurant can adequat
 ely plan for our group.  [These meetings always draw a crowd and spac
 e is limited.]\n \n\n\n \n\n***************\n\n\n\n\n\n\n\n\n\n\n\n\
 nNote Las Brisas web site:\nhttp://www.lasbrisascolorado.com/\nmap:\nh
 ttp://mapq.st/1ce8EiK\n \n\nFor more information visit http://arapaho
 eteaparty.ning.com/events/colorado-conservatives-meeting-mike-rosen-ra
 dio-host
DTSTART:20150326T003000Z
DTEND:20150326T030000Z
CATEGORIES:meeting
LOCATION:Las Brisas
WEBSITE:http://mapq.st/1ce8EiK
URL:http://mapq.st/1ce8EiK
CONTACT:Please RSVP to nancydoty@comcast.net
ORGANIZER:Nancy Doty [posted by W. Branstetter]
ATTACH;FMTTYPE="image/jpeg":
ATTENDEE;ROLE=REQ-PARTICIPANT;PARTSTAT=ACCEPTED;RSVP=TRUE;CN="W. Brans
 tetter":http://arapahoeteaparty.ning.com/profile/WBranstetter
END:VEVENT
END:VCALENDAR
