BEGIN:VCALENDAR
PRODID:NingEventWidget-v1
VERSION:2.0
METHOD:PUBLISH
BEGIN:VEVENT
UID:3186561:Event:52009
DTSTAMP:20210313T172753Z
SUMMARY:Colorado Conservatives Meeting:  Matt Crane and Dave Walcher e
 t al.
DESCRIPTION:Nancy Doty writes: \"When:    Wednesday, September 24th,
  2014Time:     6:30 p.m.\nWhere:  Las Brisas\n             
  6787 S. Clinton Street, Greenwood Village, CO\nPlease join us to hear
  from candidates on the 2014 November ballot.  Matt Crane and Dave W
 alcher are both facing their first election this November.\nMatt Crane
 , Arapahoe County Clerk and Recorder, will discuss the impact of HB13
 03 which requires all mail ballot elections.  Also, Colorado resident
 s can now register to vote and cast a ballot on the same day... How do
 es this impact the integrity of our elections?...In order to win state
  wide offices, Arapahoe County is a must win for Republicans.\nSheriff
  Dave Walcher is the Chief Law Enforcement Officer in Arapahoe County.
   He is responsible for ensuring that Arapahoe County continues to be
  a safe place to raise families, conduct business and enjoy life.  He
  will discuss the County's partnership with the City of Centennial, th
 e Prescription Drug Take Back Program, and a recent phone scam from in
 dividuals claiming to be law enforcement officers from the Sheriff's O
 ffice.\nSeveral other candidates will have representatives speaking on
  their behalf.\nThis November's election is one of the most important 
 in our state's history. ...Remember-elections have consequences!\nPle
 ase note that we now meet at Las Brisas!  Everyone is welcome!  \nAl
 so, there is a $10 cover charge which includes a taco bar buffet (incl
 udes dessert).  Alcoholic beverages can be purchased at a separate ca
 sh bar.\nPlease rsvp to nancydoty@comcast.net by Monday, September 
 22nd so the restaurant can adequately plan for our group.\"\n\n\n \n
 \n***************\n\n\n\n\n\n\n\n\n\n\n\n\nNote Las Brisas web site:\n
 http://www.lasbrisascolorado.com/\nmap:\nhttp://mapq.st/1ce8EiK\n \n\
 nFor more information visit http://arapahoeteaparty.ning.com/events/co
 lorado-conservatives-meeting-matt-crane-and-dave-walcher-et-al
DTSTART:20140925T003000Z
DTEND:20140925T030000Z
CATEGORIES:meeting
LOCATION:Las Brisas
WEBSITE:http://mapq.st/1ce8EiK
URL:http://mapq.st/1ce8EiK
CONTACT:Please RSVP to nancydoty@comcast.net
ORGANIZER:Nancy Doty [posted by W. Branstetter]
ATTACH;FMTTYPE="image/jpeg":
ATTENDEE;ROLE=REQ-PARTICIPANT;PARTSTAT=ACCEPTED;RSVP=TRUE;CN="W. Brans
 tetter":http://arapahoeteaparty.ning.com/profile/WBranstetter
END:VEVENT
END:VCALENDAR
