BEGIN:VCALENDAR
PRODID:NingEventWidget-v1
VERSION:2.0
METHOD:PUBLISH
BEGIN:VEVENT
UID:3186561:Event:52328
DTSTAMP:20210313T173515Z
SUMMARY:Colorado Conservatives Meeting:  Mark Baisley, Vice-Chair Colo
 rado Republicans
DESCRIPTION:Nancy Doty scheduled this meeting a week early because of 
 Thanksgiving: \"When:    Wednesday, November 19, 2014Time:     6:
 30 p.m.\nWhere:  Las Brisas\n              6787 S. Clinton Str
 eet, Greenwood Village, CO\nMark Baisley, Vice-chair of Colorado Repub
 licans, will be the speaker.  Expect a lively discussion about the Co
 lorado Republican Party for the next two years.  There will be much t
 o discuss about the recent elections.\nPlease note that we now meet at
  Las Brisas!  Everyone is welcome!  \nAlso, there is a $10 cover cha
 rge which includes a taco bar buffet (includes dessert).  Alcoholic b
 everages can be purchased at a separate cash bar.\nPlease rsvp to nan
 cydoty@comcast.net by Monday, November 17th so the restaurant can a
 dequately plan for our group.  [These meetings always draw a crowd an
 d space is limited.]\nNOTE that it appears the regular meeting date fo
 r December should be during the holidays so the next meeting may be in
  January 2015.\n\n\n \n\n***************\n\n\n\n\n\n\n\n\n\n\n\n\nNot
 e Las Brisas web site:\nhttp://www.lasbrisascolorado.com/\nmap:\nhttp:
 //mapq.st/1ce8EiK\n \n\nFor more information visit http://arapahoetea
 party.ning.com/events/colorado-conservatives-meeting-mark-baisley-vice
 -chair-colorado-r
DTSTART:20141120T013000Z
DTEND:20141120T040000Z
CATEGORIES:meeting
LOCATION:Las Brisas
WEBSITE:http://mapq.st/1ce8EiK
URL:http://mapq.st/1ce8EiK
CONTACT:Please RSVP to nancydoty@comcast.net
ORGANIZER:Nancy Doty [posted by W. Branstetter]
ATTACH;FMTTYPE="image/jpeg":
ATTENDEE;ROLE=REQ-PARTICIPANT;PARTSTAT=ACCEPTED;RSVP=TRUE;CN="Earl W. 
 \"Rob\" Roberts Jr.":http://arapahoeteaparty.ning.com/profile/EarlWRob
 RobertsJr
ATTENDEE;ROLE=REQ-PARTICIPANT;PARTSTAT=ACCEPTED;RSVP=TRUE;CN="W. Brans
 tetter":http://arapahoeteaparty.ning.com/profile/WBranstetter
END:VEVENT
END:VCALENDAR
