BEGIN:VCALENDAR
PRODID:NingEventWidget-v1
VERSION:2.0
METHOD:PUBLISH
BEGIN:VEVENT
UID:3186561:Event:54968
DTSTAMP:20210313T171407Z
SUMMARY:Colorado Conservatives Meeting:  Lynn Bartels with Denver Post
DESCRIPTION:Nancy Doty writes:\n \nPlease join us to hear Lynn Barte
 ls, political news writer for the Denver Post. Lynn reports on numero
 us activities that occur at the State Capitol as well as other happeni
 ngs around the State.  Recently she co-authored an article about the 
 “2015 General Assembly: winners, losers and in the middle.” And n
 ot to be missed, Lynn often authors articles of interest on The Spot,
  a Blog at the Denver Post.\n \nRSVPs are a must.  Please RSVP to 
 Nancy Doty at nancydoty@comcast.net by Monday noon, the 25th.  Se
 ating is limited.\nNote:  There is a required $11 cover charge. (An
  increase of $1 due to restaurant under new management.) This includ
 es a taco bar buffet, soft drinks, sopapilla dessert and the cost of t
 he meeting room.  Alcoholic drinks can be purchased at a separate cas
 h bar.\n\n Also, if you rsvp and then do not attend, then please know 
 that I will have to cover the cost of your meal as the restaurant has 
 incurred the expense and requires the payment for the meal. \n\nWhen:
     Wednesday, May 27, 2015Time:     6:30 p.m. (arrive earlier re
 commended)\nWhere:  Las Brisas\n              6787 S. Clinton 
 Street,\n              Greenwood Village, CO\nCost:  $11.00 \
 n.\nArrive early for a good seat.\nPlease rsvp to nancydoty@comcast.n
 et by noon Monday, May 25.  [These meetings always draw a crowd and
  space is limited.]\n\n\n \n\n***************\n\n\n\n\n\n\n\n\n\n\n\n
 \nNote Las Brisas web site:\nhttp://www.lasbrisascolorado.com/\nmap:\n
 http://mapq.st/1ce8EiK\n \n\nFor more information visit http://arapah
 oeteaparty.ning.com/events/colorado-conservatives-meeting-lynn-bartels
 -with-denver-post
DTSTART:20150528T003000Z
DTEND:20150528T030000Z
CATEGORIES:meeting
LOCATION:Las Brisas
WEBSITE:http://mapq.st/1ce8EiK
URL:http://mapq.st/1ce8EiK
CONTACT:Please RSVP to nancydoty@comcast.net
ORGANIZER:Nancy Doty [posted by W. Branstetter]
ATTACH;FMTTYPE="image/jpeg":
ATTENDEE;ROLE=REQ-PARTICIPANT;PARTSTAT=ACCEPTED;RSVP=TRUE;CN="W. Brans
 tetter":http://arapahoeteaparty.ning.com/profile/WBranstetter
END:VEVENT
END:VCALENDAR
