BEGIN:VCALENDAR
PRODID:NingEventWidget-v1
VERSION:2.0
METHOD:PUBLISH
BEGIN:VEVENT
UID:3186561:Event:45170
DTSTAMP:20210313T171827Z
SUMMARY:Colorado Conservatives Meeting:  Legislative Update--2nd Amend
 ment and Elections
DESCRIPTION: Nancy Doty writes:\n \n\"Please join us on Wednesday, Ma
 y 22nd, 6:30 p.m. at Garcia's to hear about the recent legislative ses
 sion which put in place gun controls and many changes to our future el
 ections.  These are serious issues which will affect everyone.\n \nS
 teve Schreiner, spokesman for the Firearms Coalition of Colorado, a gu
 n rights lobby group, and also a board member for the NRA, has been a 
 long-time fighter for the 2nd Amendment of the U.S. Constitution.  He
  will let us know how these new laws will limit our gun rights.\n \nM
 att Crane, Clerk & Recorder for Arapahoe County, and Jack Arrowsmith, 
 Clerk & Recorder for Douglas County, will discuss how our future elect
 ions will be conducted along with implementation of Same Day Voter Reg
 istration.  Both of these clerks spoke openly opposing this legislati
 on, but it was passed without any significant modifications to the bil
 l as presented by the Democratic sponsors.  Hear these clerks' opinio
 ns about how it will affect the conservative voter turnout.\n \nEvery
 one is welcome, so please invite family and friends to hear about thes
 e important issues.  Also, these is o room charge, but attendees are 
 urged to purchase a food or drink item to help defray the cost to the 
 restaurant.\"\n \nWhen:  Wednesday, May 22, 2013, 6:30 p.m.\n \nWh
 ere:\nGarcia's Mexican Restaurant\n5050 S. Syracuse Street,\nDenver, C
 O 80237\nJust off I-25 and Belleview\n  \nPlease invite your friends
  and family.  All are welcome!  Please RSVP to Nancy Doty so that so
 me idea is available for the size of the room and if additional staff 
 will be needed for dinner orders.\n \nPlease RSVP to nancydoty@comcas
 t.net\n \nNOTE:  Garcia's is located just off I-25 and Belleview.  
 We will have our own room and waiter.  While there is no cover charge
  for our group, please do plan to order something to eat and drink as 
 the group must order at least $250 worth of food/beverage for us to co
 ntinue to meet there.\n  \n\n\n\n\n\n\n\n\n\n\n\n\n******************
 **********\n \nNote:  This group has been meeting about two years an
 d has some very good topics and speakers.  Their events are posted at
  Meetup.com; check them out; bring a friend.\n  \nPlease RSVP directl
 y to Nancy Doty coordinating for the group by Monday May 20 to reserv
 e seat(s) for this event.\n\nhttp://www.meetup.com//Conservative-Adult
 -Singles/events/calendar/\n \n\nFor more information visit http://ara
 pahoeteaparty.ning.com/events/colorado-conservatives-meeting-legislati
 ve-update-2nd-amendment-a
DTSTART:20130523T003000Z
DTEND:20130523T030000Z
CATEGORIES:meeting
LOCATION:Garcia's Mexican Restaurant
WEBSITE:http://www.meetup.com/Conservative-Adult-Singles/events/
URL:http://www.meetup.com/Conservative-Adult-Singles/events/
CONTACT:Please RSVP to nancydoty@comcast.net
ORGANIZER:Nancy Doty [posted by W. Branstetter]
ATTACH;FMTTYPE="image/jpeg":
ATTENDEE;ROLE=REQ-PARTICIPANT;PARTSTAT=ACCEPTED;RSVP=TRUE;CN="W. Brans
 tetter":http://arapahoeteaparty.ning.com/profile/WBranstetter
END:VEVENT
END:VCALENDAR
