BEGIN:VCALENDAR
PRODID:NingEventWidget-v1
VERSION:2.0
METHOD:PUBLISH
BEGIN:VEVENT
UID:3186561:Event:48288
DTSTAMP:20210313T173725Z
SUMMARY:Colorado Conservatives Meeting:  Jon Caldera
DESCRIPTION:Please join us to hear from Jon Caldara's insight on the 
 latest political happenings in our state, including the results of the
  2013 November election, the status of the current recall effort of a 
 Democratic State Senator, and how we can win in 2014.\n\nJon is Presid
 ent of Colorado's Independence Institute.  He hosts a radio talk show
  on 630 KHOW and a television program, Devil's Advocate with Jon Calda
 ra on Channel 12 on Friday evenings at 8:30.  He is a veteran of many
  political battles and the latest is the defeat of Amendment 66.  The
  Denver Post put Caldara on their list of people to watch!  Jon's pre
 sentation will be exciting and will help educate us about the next ste
 ps we need to take for the 2014 elections.\n \nRATHER THAN ORDERING F
 ROM THE MENU, THERE WILL BE A BUFFET FOR $8 PER PERSON, INCLUDING DESS
 ERT AND SODA/COFFEE.  This will be collected by Las Brisas.  Alcohol
 ic drinks will be separate.  If you'd rather order off the menu, that
  can be done also.\n \nEveryone is welcome, so please invite family a
 nd friends to hear from Jon Caldara.\n \nPlease rsvp by noon on Mond
 ay, November 18th so that the restaurant can adequately plan for serv
 ice for our group.\n \nPlease e-mail Nancy Doty (address below) if y
 ou plan to attend so that arrangements for the room and staff can be
  made.   \n  \nWhen:  Wednesday, November 20, 2013, 6:30 p.m.\n
  \nWhere (new location):\nLas Brisas\n6787 S. Clinton Street, Greenwo
 od Village, CO\nJust east of I-25 and Arapahoe Road\n \nPlease invite
  your friends and family.  All are welcome!  Please RSVP to Nancy Do
 ty so that some idea is available for the size of the room and if addi
 tional staff will be needed for dinner orders.\n \nPlease RSVP to nan
 cydoty@comcast.net\n \n*********************\n\n\n\n\n\n\n\n\n\n\n\n\
 n \nNote:  This group has been meeting about two years and has some 
 very good topics and speakers.  Their events are posted at Meetup.com
 ; check them out; bring a friend.\n **********************\n Note La
 s Brisas web site:\n \nhttp://www.lasbrisascolorado.com/\n \nmap:\nh
 ttp://mapq.st/1ce8EiK\n \n \n\nFor more information visit http://ara
 pahoeteaparty.ning.com/events/colorado-conservatives-meeting-jon-calde
 ra
DTSTART:20131121T013000Z
DTEND:20131121T040000Z
CATEGORIES:meeting
LOCATION:Las Brisas
WEBSITE:http://mapq.st/1ce8EiK
URL:http://mapq.st/1ce8EiK
CONTACT:Please RSVP to nancydoty@comcast.net
ORGANIZER:Nancy Doty [posted by W. Branstetter]
ATTACH;FMTTYPE="image/jpeg":
ATTENDEE;ROLE=REQ-PARTICIPANT;PARTSTAT=ACCEPTED;RSVP=TRUE;CN="Gary \"D
 allas\" D'Alessandro":http://arapahoeteaparty.ning.com/profile/GaryDal
 lasDAlessandro
ATTENDEE;ROLE=REQ-PARTICIPANT;PARTSTAT=ACCEPTED;RSVP=TRUE;CN="W. Brans
 tetter":http://arapahoeteaparty.ning.com/profile/WBranstetter
END:VEVENT
END:VCALENDAR
