BEGIN:VCALENDAR
PRODID:NingEventWidget-v1
VERSION:2.0
METHOD:PUBLISH
BEGIN:VEVENT
UID:3186561:Event:58947
DTSTAMP:20210313T174947Z
SUMMARY:Colorado Conservatives Meeting:  John Andrews on \"Dark Days: 
 What Would Churchill Do?\" (Please RSVP to Nancy Doty)
DESCRIPTION:When: Wednesday, September 28, 2016 at 6:30 p.m. \nWhere
 :  Las Brisas\n            6787 South Clinton Street\n      
       Greenwood Village, CO 80112\n     Just east of I-25 and Ar
 apahoe Road, across from Target\nNancy Doty writes:  Our first meetin
 g after the summer break, so please join us to hear from John Andrews
  on \"Dark Days: What Would Churchill Do?\" \n \nPlease Note: There
  is a $12 cover charge which includes a taco bar buffet, soft drink, 
 dessert and the cost of the meeting room. Alcoholic drinks can be purc
 hased at a separate cash bar.\n \nAlso, if you RSVP and then do not a
 ttend, you will be required to cover the cost of your meal as the rest
 aurant has incurred the expense and requires payment for the meal.\n 
 \n\n\nEvents are very well attended and seating is limited.\nRSVPs are
  required by Monday, September 26 noon to nancydoty@comcast.net\n  
 \n\nArrive early (6:00 p.m.) for a good seat.\nEveryone is welcome, so
  please invite family and friends.\n \n\n***************\n\n\n\n\n\n\
 n\n\n\n\n\n\nNote Las Brisas web site:\nhttp://www.lasbrisascolorado.c
 om/\nmap:\nhttp://mapq.st/1ce8EiK\n \n\nFor more information visit ht
 tp://arapahoeteaparty.ning.com/events/colorado-conservatives-meeting-j
 ohn-andrews-on-dark-days-what-wou
DTSTART:20160929T003000Z
DTEND:20160929T030000Z
CATEGORIES:meeting
LOCATION:Las Brisas
WEBSITE:http://mapq.st/1ce8EiK
URL:http://mapq.st/1ce8EiK
CONTACT:Please RSVP to nancydoty@comcast.net by Sept. 26
ORGANIZER:Nancy Doty [posted by W. Branstetter]
ATTACH;FMTTYPE="image/jpeg":
ATTENDEE;ROLE=REQ-PARTICIPANT;PARTSTAT=ACCEPTED;RSVP=TRUE;CN="W. Brans
 tetter":http://arapahoeteaparty.ning.com/profile/WBranstetter
END:VEVENT
END:VCALENDAR
