BEGIN:VCALENDAR
PRODID:NingEventWidget-v1
VERSION:2.0
METHOD:PUBLISH
BEGIN:VEVENT
UID:3186561:Event:52182
DTSTAMP:20210313T193428Z
SUMMARY:Colorado Conservatives Meeting:  Joe Bagi (ACT for America) on
  ISIS
DESCRIPTION:Nancy Doty writes: \"When:    Wednesday, October 22, 201
 4Time:     6:30 p.m.\nWhere:  Las Brisas\n              678
 7 S. Clinton Street, Greenwood Village, CO\nPlease join us to discuss
  ISIS (Islamic  State of Iraq and Syria) with Joe Bagi, of Act For A
 merica.  Is ISIS a threat to the U.S.?  The recent be-heading of Ame
 rican Journalist James Foley was purported to be in retaliation for 
 the U.S. airstrikes.  Likewise, ISIS threatened the U.K. \nPlease no
 te that we now meet at Las Brisas!  Everyone is welcome!  \nAlso, th
 ere is a $10 cover charge which includes a taco bar buffet (includes d
 essert).  Alcoholic beverages can be purchased at a separate cash bar
 .\nPlease rsvp to nancydoty@comcast.net by Monday, October 20th so
  the restaurant can adequately plan for our group.  [These meetings a
 lways draw a crowd and space is limited.]\n\n\n \n\n***************\n
 \n\n\n\n\n\n\n\n\n\n\n\nNote Las Brisas web site:\nhttp://www.lasbrisa
 scolorado.com/\nmap:\nhttp://mapq.st/1ce8EiK\n \n\nFor more informati
 on visit http://arapahoeteaparty.ning.com/events/colorado-conservative
 s-meeting-joe-bagi-act-for-america-on-isis
DTSTART:20141023T003000Z
DTEND:20141023T030000Z
CATEGORIES:meeting
LOCATION:Las Brisas
WEBSITE:http://mapq.st/1ce8EiK
URL:http://mapq.st/1ce8EiK
CONTACT:Please RSVP to nancydoty@comcast.net
ORGANIZER:Nancy Doty [posted by W. Branstetter]
ATTACH;FMTTYPE="image/jpeg":
ATTENDEE;ROLE=REQ-PARTICIPANT;PARTSTAT=ACCEPTED;RSVP=TRUE;CN="W. Brans
 tetter":http://arapahoeteaparty.ning.com/profile/WBranstetter
END:VEVENT
END:VCALENDAR
